BEGIN:VCALENDAR
VERSION:2.0
PRODID:-//PRSA-LA - ECPv6.15.20//NONSGML v1.0//EN
CALSCALE:GREGORIAN
METHOD:PUBLISH
X-ORIGINAL-URL:https://prsala.org
X-WR-CALDESC:Events for PRSA-LA
REFRESH-INTERVAL;VALUE=DURATION:PT1H
X-Robots-Tag:noindex
X-PUBLISHED-TTL:PT1H
BEGIN:VTIMEZONE
TZID:America/Los_Angeles
BEGIN:DAYLIGHT
TZOFFSETFROM:-0800
TZOFFSETTO:-0700
TZNAME:PDT
DTSTART:20250309T100000
END:DAYLIGHT
BEGIN:STANDARD
TZOFFSETFROM:-0700
TZOFFSETTO:-0800
TZNAME:PST
DTSTART:20251102T090000
END:STANDARD
BEGIN:DAYLIGHT
TZOFFSETFROM:-0800
TZOFFSETTO:-0700
TZNAME:PDT
DTSTART:20260308T100000
END:DAYLIGHT
BEGIN:STANDARD
TZOFFSETFROM:-0700
TZOFFSETTO:-0800
TZNAME:PST
DTSTART:20261101T090000
END:STANDARD
BEGIN:DAYLIGHT
TZOFFSETFROM:-0800
TZOFFSETTO:-0700
TZNAME:PDT
DTSTART:20270314T100000
END:DAYLIGHT
BEGIN:STANDARD
TZOFFSETFROM:-0700
TZOFFSETTO:-0800
TZNAME:PST
DTSTART:20271107T090000
END:STANDARD
END:VTIMEZONE
BEGIN:VEVENT
DTSTART;TZID=America/Los_Angeles:20260527T000000
DTEND;TZID=America/Los_Angeles:20260527T000000
DTSTAMP:20260423T035931
CREATED:20260421T000226Z
LAST-MODIFIED:20260421T001956Z
UID:32479-1779840000-1779840000@prsala.org
SUMMARY:PRSA-LA’s At Breakfast With...
DESCRIPTION:PRSA-LA’s At Breakfast With… is going inside KABC Los Angeles for an exclusive behind-the-scenes tour of their newly renovated newsroom and conversation with the journalists and decision-makers shaping daily news in Los Angeles.\nMay 27\nSave the date – more details coming soon.
URL:https://prsala.org/event/prsa-las-at-breakfast-with/
LOCATION:CA
CATEGORIES:PRSA-LA
ORGANIZER;CN="PRSA-LA":MAILTO:executive.director@prsala.org
END:VEVENT
END:VCALENDAR