BEGIN:VCALENDAR
VERSION:2.0
PRODID:-//PRSA-LA - ECPv6.15.20//NONSGML v1.0//EN
CALSCALE:GREGORIAN
METHOD:PUBLISH
X-WR-CALNAME:PRSA-LA
X-ORIGINAL-URL:https://prsala.org
X-WR-CALDESC:Events for PRSA-LA
REFRESH-INTERVAL;VALUE=DURATION:PT1H
X-Robots-Tag:noindex
X-PUBLISHED-TTL:PT1H
BEGIN:VTIMEZONE
TZID:America/Los_Angeles
BEGIN:DAYLIGHT
TZOFFSETFROM:-0800
TZOFFSETTO:-0700
TZNAME:PDT
DTSTART:20250309T100000
END:DAYLIGHT
BEGIN:STANDARD
TZOFFSETFROM:-0700
TZOFFSETTO:-0800
TZNAME:PST
DTSTART:20251102T090000
END:STANDARD
BEGIN:DAYLIGHT
TZOFFSETFROM:-0800
TZOFFSETTO:-0700
TZNAME:PDT
DTSTART:20260308T100000
END:DAYLIGHT
BEGIN:STANDARD
TZOFFSETFROM:-0700
TZOFFSETTO:-0800
TZNAME:PST
DTSTART:20261101T090000
END:STANDARD
BEGIN:DAYLIGHT
TZOFFSETFROM:-0800
TZOFFSETTO:-0700
TZNAME:PDT
DTSTART:20270314T100000
END:DAYLIGHT
BEGIN:STANDARD
TZOFFSETFROM:-0700
TZOFFSETTO:-0800
TZNAME:PST
DTSTART:20271107T090000
END:STANDARD
END:VTIMEZONE
BEGIN:VEVENT
DTSTART;TZID=America/Los_Angeles:20260326T170000
DTEND;TZID=America/Los_Angeles:20260326T200000
DTSTAMP:20260425T070316
CREATED:20260305T200925Z
LAST-MODIFIED:20260305T201509Z
UID:28056-1774544400-1774555200@prsala.org
SUMMARY:2026 Kenneth Owler Smith Symposium on Public Relations
DESCRIPTION:2026 Kenneth Owler Smith Symposium on Public Relations \nThursday\, March 26\, 2026 •  5:00pm to 8:00pm PDT\n \nWallis Annenberg Hall (ANN)\, USC \nAuditorium (L105A) \nREGISTER HERE \n\nPurpose under pressure: Navigating real-world decisions about sustaining and communicating corporate purpose. \nThis event will have a reception at 5 p.m. PT and the program at 6:30 p.m. PT. Featured speakers and panelists are listed below: \n\nPurpose Award presentation to Ronald McDonald House\nJon Banner\, executive vice president and global chief impact officer\, McDonald’s\nJoanna Sabato\, chief marketing and communications officer\, Ronald McDonald House Global\nJean Guerrero\, visiting professor\, “Our Unsilencing” project\, USC Annenberg\nFred Cook\, professor and director\, USC Center for Public Relations\n\nMore information on panelists is forthcoming. RSVP HERE. \n\n\nFree for PRSA members and USC Annenberg alumni \nThis program is open to all eligible individuals. USC operates all of its programs and activities consistent with the university’s Notice of Non-Discrimination. Eligibility is not determined based on race\, sex\, ethnicity\, sexual orientation or any other prohibited factor. \n\nREGISTER HERE
URL:https://prsala.org/event/2026-kenneth-owler-smith-symposium-on-public-relations/
LOCATION:CA
CATEGORIES:Other Events
ATTACH;FMTTYPE=image/png:https://prsala.org/wp-content/uploads/kenneth-owler-symposium-image-scaled.png
END:VEVENT
BEGIN:VEVENT
DTSTART;TZID=America/Los_Angeles:20260408T110000
DTEND;TZID=America/Los_Angeles:20260408T113000
DTSTAMP:20260425T070316
CREATED:20260311T190651Z
LAST-MODIFIED:20260311T195631Z
UID:28085-1775646000-1775647800@prsala.org
SUMMARY:PRSA: Shape How AI Understands Your Brand
DESCRIPTION:Shape How AI Understands Your Brand \nSave your spot for our new demo days: Shape Brand Narrative in the AI Era with Agility PR Solutions\, scheduled for April 8 at 2 p.m. ET. As AI answer engines begin to synthesize the news\, mere mentions are not enough. Ensure your brand is accurately understood. \nSee how Visibility Intelligence lets you monitor how AI portrays your brand in real time. Learn to leverage strategic earned media to optimize those AI responses\, keeping your brand’s story clear\, credible and competitive. \nFree Event – Register Now
URL:https://prsala.org/event/28085/
LOCATION:CA
CATEGORIES:PRSA,Webinar
ATTACH;FMTTYPE=image/png:https://prsala.org/wp-content/uploads/DD-Agility_FT.png
END:VEVENT
BEGIN:VEVENT
DTSTART;TZID=America/Los_Angeles:20260413T000000
DTEND;TZID=America/Los_Angeles:20260415T000000
DTSTAMP:20260425T070316
CREATED:20260406T205014Z
LAST-MODIFIED:20260406T205014Z
UID:32402-1776038400-1776211200@prsala.org
SUMMARY:PRSA Counselors Academy 2026 Conference  April 13-15\, 2026 | Carlsbad\, California
DESCRIPTION:PRSA Counselors Academy 2026 Conference \nApril 13-15\, 2026 | Carlsbad\, California \nHere is an opportunity to attend the PRSA Counselors Academy 2026 Conference at a Special One-Day Pass Rate (Tuesday\, April 14 only) designed to make the event more accessible\, particularly for small PR firm owners and senior leaders who are not able to attend the full conference. \nOne-Day Pass (Tuesday\, April 14): $795 \nPRSA Counselors Academy focuses on supporting agency owners and leaders through peer-to-peer learning\, business growth\, and leadership development. The conference brings together PR firm leaders from across the country for highly practical\, operator-focused sessions. \nMore details and registration here: \nhttps://www.prsa.org/home/get-involved/professional-interest-sections/counselors-academy/prsa-counselors-academy-2026-section-conference#registration \n \n\n 
URL:https://prsala.org/event/prsa-counselors-academy-2026-conference-april-13-15-2026-carlsbad-california/
LOCATION:CA
CATEGORIES:PRSA
ATTACH;FMTTYPE=image/png:https://prsala.org/wp-content/uploads/prsa-counselor-aca.png
ORGANIZER;CN="PRSA":MAILTO:executive.director@prsala.org
END:VEVENT
BEGIN:VEVENT
DTSTART;TZID=America/Los_Angeles:20260429T000000
DTEND;TZID=America/Los_Angeles:20260501T000000
DTSTAMP:20260425T070316
CREATED:20260410T202726Z
LAST-MODIFIED:20260410T202837Z
UID:32439-1777420800-1777593600@prsala.org
SUMMARY:PRSA: APR Virtual Boot Camp
DESCRIPTION:APR Virtual Boot Camp \n April 29-May 1\, 2026 \nThe APR Boot Camp is a three-day intensive course for candidates to prepare for and be Advanced through the Panel Presentation\, and take the Examination for Accreditation in Public Relations (APR) or Accreditation in Public Relations + Military Communication (APR+M). This course is designed to provide a setting that will meet the needs of busy professionals whose schedules don’t permit extensive preparation time. \nPricing ranges from $100-$500. Register by April 15. \nMore resources: \nAPR Panel Presentation: Secrets to Success \nView this FREE PRSA Learning Webinar to see what a “great” APR panel presentation looks like as Juanita Traughber\, MBA\, APR\, shares the presentation she made as part of her accreditation process. \nThis webinar teaches how to present a campaign’s research\, planning\, implementation and evaluation (RPIE) work\, and answer tough questions. The webinar also shows why the project won national and regional awards. \nRefreshed Brochure \nGet answers to APR questions in this refreshed brochure. \nContact PRSA-LA APR Chair Justin Glover at justin@communicationslab.com to start your APR journey.
URL:https://prsala.org/event/prsa-apr-virtual-boot-camp/
LOCATION:CA
CATEGORIES:PRSA,Webinar
ATTACH;FMTTYPE=image/png:https://prsala.org/wp-content/uploads/APR-LOGO-2026.png
ORGANIZER;CN="PRSA":MAILTO:executive.director@prsala.org
END:VEVENT
BEGIN:VEVENT
DTSTART;TZID=America/Los_Angeles:20260430T180000
DTEND;TZID=America/Los_Angeles:20260430T200000
DTSTAMP:20260425T070316
CREATED:20260424T211958Z
LAST-MODIFIED:20260424T214448Z
UID:32492-1777572000-1777579200@prsala.org
SUMMARY:PRSA-LA\, PRSA and PRSSA Hangout and Mixer
DESCRIPTION:Join PRSA-LA and USC PRSSA for a PRSA/PRSSA/Emerging Professionals Hangout and Mixer on Thursday\, 4/30 from 6PM to 8PM at Arts District Brewing Company (828 Traction Ave\, Los Angeles\, CA 90013).  \nThis free event is simply an opportunity to casually socialize\, network and catch-up with fellow students\, emerging professionals and seasoned professional from across the Greater Los Angeles Area! We also want to celebrate and acknowledge PRSSA seniors as they countdown toward graduation!  \nNote: Guests under 21 are welcome until 7PM.  \nIf you have any questions\, please feel free to reach out to PRSA-LA PRSSA/Emerging Professionals Committee Members Keenan Kurihara (kkurihara@flintridgeprep.org) or Ajay Benmoin (ajaybenmoin@gmail.com) or USC PRSSA President Taylor Altman (taltman@usc.edu) if you have any questions!  \nRSVP HERE
URL:https://prsala.org/event/prsa-la-x-prssa-hangout-mixer/
LOCATION:Arts District Brewing Company\, 828 Traction Ave\, Los Angeles\, CA\, 90013
CATEGORIES:PRSA,PRSA-LA,PRSSA
ATTACH;FMTTYPE=image/jpeg:https://prsala.org/wp-content/uploads/PRSSA-Mixer-WEB.jpg
END:VEVENT
BEGIN:VEVENT
DTSTART;TZID=America/Los_Angeles:20260507T180000
DTEND;TZID=America/Los_Angeles:20260507T200000
DTSTAMP:20260425T070316
CREATED:20260424T214746Z
LAST-MODIFIED:20260424T215015Z
UID:32497-1778176800-1778184000@prsala.org
SUMMARY:AAPI Heritage Month Networking Mixer
DESCRIPTION:Join PRSA-LA and AAJA-LA on Thursday\, May 7\, from 6:00 PM to 8:00 PM for our fourth annual AAPI Heritage Month celebration at Emporium Thai\, 1275 Westwood Blvd\, Los Angeles\, CA 90024\, bringing together Los Angeles’ communications and journalism communities. \nConnect with a vibrant network of PR\, media\, and marketing professionals while celebrating the voices and perspectives shaping the future of storytelling. This annual gathering is an opportunity to build relationships\, exchange ideas\, and reflect on the impact of AAPI leaders across media and communications. \nThis year’s event will be held at Emporium Thai\, a Westwood Village favorite known for its modern take on Thai cuisine and welcoming atmosphere—perfect for a relaxed and engaging evening of networking. \nEnjoy a complimentary drink ticket along with light bites. \nYou must be on the RSVP list to receive your drink ticket. \nREGISTER HERE. \n 
URL:https://prsala.org/event/aapi-heritage-month-networking-mixer-2/
LOCATION:Emporium Thai\, 1275 Westwood Blvd\,\, Los Angeles\,\, 90024\, United States
CATEGORIES:PRSA-LA
ATTACH;FMTTYPE=image/png:https://prsala.org/wp-content/uploads/1000160314.png
END:VEVENT
BEGIN:VEVENT
DTSTART;TZID=America/Los_Angeles:20260527T000000
DTEND;TZID=America/Los_Angeles:20260527T000000
DTSTAMP:20260425T070316
CREATED:20260421T000226Z
LAST-MODIFIED:20260424T220312Z
UID:32479-1779840000-1779840000@prsala.org
SUMMARY:PRSA-LA’s At Breakfast With...
DESCRIPTION:PRSA-LA’s At Breakfast With… is going inside KABC Los Angeles for an exclusive behind-the-scenes tour of their newly renovated newsroom and conversation with the journalists and decision-makers shaping daily news in Los Angeles.\nMay 27\nSave the date – more details coming soon.
URL:https://prsala.org/event/prsa-las-at-breakfast-with/
LOCATION:CA
CATEGORIES:PRSA-LA
ATTACH;FMTTYPE=image/png:https://prsala.org/wp-content/uploads/ABW-KABC-Newsroom-Tour.png
ORGANIZER;CN="PRSA-LA":MAILTO:executive.director@prsala.org
END:VEVENT
END:VCALENDAR