BEGIN:VCALENDAR
VERSION:2.0
PRODID:-//PRSA-LA - ECPv6.15.20//NONSGML v1.0//EN
CALSCALE:GREGORIAN
METHOD:PUBLISH
X-ORIGINAL-URL:https://prsala.org
X-WR-CALDESC:Events for PRSA-LA
REFRESH-INTERVAL;VALUE=DURATION:PT1H
X-Robots-Tag:noindex
X-PUBLISHED-TTL:PT1H
BEGIN:VTIMEZONE
TZID:America/Los_Angeles
BEGIN:DAYLIGHT
TZOFFSETFROM:-0800
TZOFFSETTO:-0700
TZNAME:PDT
DTSTART:20130310T100000
END:DAYLIGHT
BEGIN:STANDARD
TZOFFSETFROM:-0700
TZOFFSETTO:-0800
TZNAME:PST
DTSTART:20131103T090000
END:STANDARD
BEGIN:DAYLIGHT
TZOFFSETFROM:-0800
TZOFFSETTO:-0700
TZNAME:PDT
DTSTART:20140309T100000
END:DAYLIGHT
BEGIN:STANDARD
TZOFFSETFROM:-0700
TZOFFSETTO:-0800
TZNAME:PST
DTSTART:20141102T090000
END:STANDARD
BEGIN:DAYLIGHT
TZOFFSETFROM:-0800
TZOFFSETTO:-0700
TZNAME:PDT
DTSTART:20150308T100000
END:DAYLIGHT
BEGIN:STANDARD
TZOFFSETFROM:-0700
TZOFFSETTO:-0800
TZNAME:PST
DTSTART:20151101T090000
END:STANDARD
END:VTIMEZONE
BEGIN:VEVENT
DTSTART;VALUE=DATE:20140804
DTEND;VALUE=DATE:20140805
DTSTAMP:20260423T012916
CREATED:20140729T160405Z
LAST-MODIFIED:20140804T211747Z
UID:2226-1407110400-1407196799@prsala.org
SUMMARY:PRism Awards Early Entry Deadline
DESCRIPTION:
URL:https://prsala.org/event/prism-awards-early-entry-deadline/
CATEGORIES:PRSA-LA
END:VEVENT
BEGIN:VEVENT
DTSTART;TZID=America/Los_Angeles:20140819T183000
DTEND;TZID=America/Los_Angeles:20140819T210000
DTSTAMP:20260423T012916
CREATED:20140811T201925Z
LAST-MODIFIED:20140811T202150Z
UID:2252-1408473000-1408482000@prsala.org
SUMMARY:Social Media Made the Video Star
DESCRIPTION:The following is information about an event from Social Media Club Los Angeles\, one of PRSA-LA’s numerous sister professional communications organizations. \nSocial Media Made The Video Star \nIn-depth panel discussion featuring highly-experienced online video production and distribution thought leaders. \nPanelists:\nBrendan Gahan\, YouTube consultant to Fortune 500 brands\, former head of strategy at Fullscreen and Mekanism\nViolet Mae Lim\, senior director of marketing at Maker Studios\, previously director of social media strategy at Yahoo!\nRob Jones\, vice president of digital strategy at Edelman Digital Los Angeles\nDylan Conroy\, vice president of sales at Channel Factory\, a Culver City-based online video and data distribution company for high-profile consumer and business brands. \nModerator:\nCharlie Capen\, director of online engagement at 20th Century Fox Television and co-founder of HowToBeADad.com\, an entertainment site for parents\, will be the moderator. \nWhen:\nTuesday\, August 19\, 2014\n6:30 – 9:00 p.m. \nLocation:\nMaker Studios\n3562 Eastham Drive\nCulver City\, CA 90232 \nClicker here to Register or go to: http://bit.ly/SMCLAvideo\nCost $10.00. Includes light appetizers and refreshments \n  \nThis is not a Chapter event; please register at the link provided above.
URL:https://prsala.org/event/social-media-made-the-video-star/
END:VEVENT
END:VCALENDAR