BEGIN:VCALENDAR
VERSION:2.0
PRODID:-//PRSA-LA - ECPv6.15.20//NONSGML v1.0//EN
CALSCALE:GREGORIAN
METHOD:PUBLISH
X-ORIGINAL-URL:https://prsala.org
X-WR-CALDESC:Events for PRSA-LA
REFRESH-INTERVAL;VALUE=DURATION:PT1H
X-Robots-Tag:noindex
X-PUBLISHED-TTL:PT1H
BEGIN:VTIMEZONE
TZID:America/Los_Angeles
BEGIN:DAYLIGHT
TZOFFSETFROM:-0800
TZOFFSETTO:-0700
TZNAME:PDT
DTSTART:20130310T100000
END:DAYLIGHT
BEGIN:STANDARD
TZOFFSETFROM:-0700
TZOFFSETTO:-0800
TZNAME:PST
DTSTART:20131103T090000
END:STANDARD
BEGIN:DAYLIGHT
TZOFFSETFROM:-0800
TZOFFSETTO:-0700
TZNAME:PDT
DTSTART:20140309T100000
END:DAYLIGHT
BEGIN:STANDARD
TZOFFSETFROM:-0700
TZOFFSETTO:-0800
TZNAME:PST
DTSTART:20141102T090000
END:STANDARD
BEGIN:DAYLIGHT
TZOFFSETFROM:-0800
TZOFFSETTO:-0700
TZNAME:PDT
DTSTART:20150308T100000
END:DAYLIGHT
BEGIN:STANDARD
TZOFFSETFROM:-0700
TZOFFSETTO:-0800
TZNAME:PST
DTSTART:20151101T090000
END:STANDARD
END:VTIMEZONE
BEGIN:VTIMEZONE
TZID:America/Los_Angeles
BEGIN:DAYLIGHT
TZOFFSETFROM:-0800
TZOFFSETTO:-0700
TZNAME:PDT
DTSTART:20130310T100000
END:DAYLIGHT
BEGIN:STANDARD
TZOFFSETFROM:-0700
TZOFFSETTO:-0800
TZNAME:PST
DTSTART:20131103T090000
END:STANDARD
BEGIN:DAYLIGHT
TZOFFSETFROM:-0800
TZOFFSETTO:-0700
TZNAME:PDT
DTSTART:20140309T100000
END:DAYLIGHT
BEGIN:STANDARD
TZOFFSETFROM:-0700
TZOFFSETTO:-0800
TZNAME:PST
DTSTART:20141102T090000
END:STANDARD
BEGIN:DAYLIGHT
TZOFFSETFROM:-0800
TZOFFSETTO:-0700
TZNAME:PDT
DTSTART:20150308T100000
END:DAYLIGHT
BEGIN:STANDARD
TZOFFSETFROM:-0700
TZOFFSETTO:-0800
TZNAME:PST
DTSTART:20151101T090000
END:STANDARD
END:VTIMEZONE
BEGIN:VEVENT
DTSTART;TZID=America/Los_Angeles:20140905T120000
DTEND;TZID=America/Los_Angeles:20140905T133000
DTSTAMP:20260422T235409
CREATED:20140820T211441Z
LAST-MODIFIED:20140820T211441Z
UID:2277-1409918400-1409923800@prsala.org
SUMMARY:Independent Practitioners Luncheon - Protect Intellectual Property for PR Professionals
DESCRIPTION:Creativity is serious business in Greater Los Angeles. Creative occupations represent one out of every eight jobs in Los Angeles and Orange counties and have an economic output of $230 billion. Protecting that creativity is an equally serious business\, and public relations practitioners need a firm grasp of how intellectual property laws apply to them and their clients. \nThe session will focus on:\n• Understanding intellectual property\, including why you can’t patent a brand or trademark an idea\n• The top 10 things every business owner\, including solo practitioners and boutique PR firm principals\, needs to know about intellectual property\n• Tips that will help you and your clients avoid IP crises \n \nMichael L. Lovitz\, Esq.\nOwner\, Lovitz IP Law\, PC \nMichael Lovitz specializes in copyrights\, trademarks\, unfair competition\, trade secrets\, copyright and trademark litigation\, portfolio management\, licensing and transactional matters. His domestic and international clients include apparel\, manufacturing\, pharmaceutical\, healthcare\, financial\, toys\, jewelry\, media/publishing\, videogame producers\, software\, Internet and technology companies. He also works with comic book creators and publishers. Lovitz is a frequent instructor and lecturer on trademark\, copyright\, Internet\, computer and entertainment law issues. \nDate and Time: \nFriday\, Sept. 5\, 2014\n12 p.m. to 1 p.m. Luncheon and Presentation\n1 p.m. to 1:30 p.m. Q&A \nLocation: \nThe Capital Grille at Beverly Center\n8614 Beverly Blvd\, #159\nLos Angeles\, CA 90048\n(310) 358-0650 \nThe Capital Grille offers complimentary valet parking. Valet is located in front of the restaurant on Beverly Blvd. Do not park inside of Beverly Center. \nCost \n$25 – PRSA-LA & YP members\n$35 – Non-members/guests\nIncludes a pre-set lunch \n  \n \nOnline Ticketing for IPA SEPTEMBER LUNCHEON Protect Intellectual Property for PR Professionals powered by Eventbrite
URL:https://prsala.org/event/independent-practitioners-luncheon-protect-intellectual-property-for-pr-professionals/
LOCATION:The Capital Grille at Beverly Center\, 8614 Beverly Blvd.\, #159\, Los Angeles\, CA 90048\, CA\, 90049\, United States
END:VEVENT
BEGIN:VEVENT
DTSTART;TZID=America/Los_Angeles:20140905T120000
DTEND;TZID=America/Los_Angeles:20140905T133000
DTSTAMP:20260422T235409
CREATED:20181222T085345Z
LAST-MODIFIED:20190125T054834Z
UID:8253-1409918400-1409923800@prsala.org
SUMMARY:IPA SEPTEMBER LUNCHEON  Protect Intellectual Property for PR Professionals
DESCRIPTION:Creativity is serious business in Greater Los Angeles. Creative occupations represent one out of every eight jobs in Los Angeles and Orange counties and have an economic output of $230 billion. Protecting that creativity is an equally serious business\, and public relations practitioners need a firm grasp of how intellectual property laws apply to them and their clients. \nThe session will focus on:\n\nUnderstanding intellectual property\, including why you can’t patent a brand or trademark an idea\nThe top 10 things every business owner\, including solo practitioners and boutique PR firm principals\, needs to know about intellectual property\nTips that will help you and your clients avoid IP crises\n\nSpeaker Michael Lovitz\, Esq.\, specializes in copyrights\, trademarks\, unfair competition\, trade secrets\, copyright and trademark litigation\, portfolio management\, licensing and transactional matters. His domestic and international clients include apparel\, manufacturing\, pharmaceutical\, healthcare\, financial\, toys\, jewelry\, media/publishing\, videogame producers\, software\, Internet and technology companies. He also works with comic book creators and publishers. Lovitz is a frequent instructor and lecturer on trademark\, copyright\, Internet\, computer and entertainment law issues.
URL:https://prsala.org/event/ipa-september-luncheon-protect-intellectual-property-for-pr-professionals/
LOCATION:The Capital Grille\, 8614 Beverly Blvd\, #159\, Los Angeles\, CA\, 90048\, United States
ORGANIZER;CN="PRSA-LA":MAILTO:executive.director@prsala.org
END:VEVENT
BEGIN:VEVENT
DTSTART;TZID=America/Los_Angeles:20140910T080000
DTEND;TZID=America/Los_Angeles:20140910T093000
DTSTAMP:20260422T235409
CREATED:20140811T160333Z
LAST-MODIFIED:20140819T220504Z
UID:2249-1410336000-1410341400@prsala.org
SUMMARY:At Breakfast With...Community/Public Affairs Programs
DESCRIPTION:  \nWho:\nWendy Carrillo\, host/producer\, “Knowledge is Power” (KPWR-FM 106)\nSteve Gregory\, National Correspondent (KFI-AM)\nBrad Pomerance\, news anchor\, host of “California Edition” (Charter)\nVal Zavala\, anchor\, “SoCal Connected” (KCET-TV) \nMore speakers to be announced! \nWhat: \nIf you are looking to book guests on today’s top broadcast news programs and\ncommunity talk shows\, this session will give you key insights from leading journalists on\nexactly what they want in a pitch\, the must-have traits of every guest they book\, and\nhow to build long-term relationships with top producers. Join us for a timely and\nactionable information breakfast with some of the most influential community/public\naffairs programs in Southern California. \nWhen:\nWednesday\, September 10\, 2014\n8:00 a.m. – 9:30 a.m.; Please arrive at 7:45 a.m.\nProgram will begin promptly at 8:00 a.m. \nWhere:\nSouthern California Gas Co. Tower\n555 W. 5th Street (corner of 5th and Olive)\n2nd Floor (2A Conference Room)\nLos Angeles CA 90013-1011 \nParking is available at the 5th and Olive lot across the street from the Gas Company Tower. Additional parking is available at Pershing Square between Hill and Olive and lot located on 6th Street and Grand – (5 min. walk) Sorry\, no parking validations \nCost:\n$15 for PRSA-LA/YP members; $25 for non-members\n$10 for PRSA student members;\nPayment at the door: check encouraged; cash accepted. No credit cards. \nRSVP:\nAdvance reservations required.\nRSVP to: Alfredo E. Padilla\, alfredo@prsala.org (subject line: Community/Public Affairs) \n 
URL:https://prsala.org/event/at-breakfast-with-communitypublic-affairs-programs/
LOCATION:Southern California Gas Tower\, 555 W. 5th Street (corner of 5th and Olive) 2nd Floor (2A Conference Room)\, Los Angeles\, CA\, 90013-1011\, United States
END:VEVENT
BEGIN:VEVENT
DTSTART;VALUE=DATE:20140915
DTEND;VALUE=DATE:20140916
DTSTAMP:20260422T235409
CREATED:20140729T160615Z
LAST-MODIFIED:20140903T191242Z
UID:2229-1410739200-1410825599@prsala.org
SUMMARY:PRism Awards Final Entry Deadline
DESCRIPTION:
URL:https://prsala.org/event/prism-awards-final-entry-deadline/
CATEGORIES:PRSA-LA
END:VEVENT
BEGIN:VEVENT
DTSTART;TZID=America/Los_Angeles:20140923T120000
DTEND;TZID=America/Los_Angeles:20140923T130000
DTSTAMP:20260422T235409
CREATED:20140822T195833Z
LAST-MODIFIED:20140917T174251Z
UID:2281-1411473600-1411477200@prsala.org
SUMMARY:From Headlines to Hashtags: How Social Media is Transforming News Coverage
DESCRIPTION:We live in an age when news is reported and consumed in real time. The race to deliver a story first has never been more intense\, as journalists\, social media managers and PR pros face constant pressure to generate more shares\, likes\, retweets and pins than the competition. News cycles and attention spans are now measured in seconds\, and even the most traditional news outlets must infuse their coverage with social features in order to remain relevant. This panel will examine how traditional news can survive and thrive amid this shift to the real time web. \n  \nPanelists: \nStacey Leasca\, Social Media Editor\, LA Times \nChris Schauble\, Anchor\, KTLA \nMichael Slate\, Producer and Host\, KPFK \nModerator: \nErik Deutsch\, Principal\, ExcelPR Group and President\, PRSA-LA \nHosted by Social Media Club\, Los Angeles (SMCLA) and Public Relations Society of America\, Los Angeles Chapter (PRSA-LA) \n  \nLocation: \nThe Broad Stage\n1310 11th Street\nSanta Monica\, CA 90401 \n  \nFor more information on this panel and to register to attend\, please visit: \nhttp://socialmediaweek.org/losangeles/events/headlines-hashtags-social-media-transforming-news-coverage/ \n  \nCost: \nTo register for this panel you must purchase a Social Media Week Los Angeles pass. \nPRSA-LA members have a special discount code to save 25% on admission passes to all Social Media Week Los Angeles events at The Broad Stage in Santa Monica (Sept. 22-26). Register at http://smw.la/attend and use promo code PRSALA to get the discount. \n  \nInfo for Twitter RT to Win Ticket Giveaway Participants:  \n1. To enter\, individuals should retweet any @PRSALA tweet that promotes this SMWLA event (the @PRSALA handle or #PRSALA hashtag must be included\, along with an event link). \n2. The Winner(s) will be announced on our twitter stream. @PRSALA will ‘follow’ the winner(s) so the winners can then respond via DM (direct message). Winner must ‘follow’ @PRSALA in order to receive direct messages. \n3 . Ten (10) winners will be chosen randomly from eligible entries. \n4. To enter\, you must be a US resident over the age of 18. Entries will be disqualified if we believe they are generated by scripts or other automated technology. We will disqualify entries whose authorship and copyright is called into question and cannot be verified. \n5. Employees\, partners and vendors of PRSALA and their immediate family members are not eligible to enter. \n6. Only one retweet of each individual @PRSALA tweet will qualify as an entry\, but individuals may retweet more than one @PRSALA tweet to gain multiple entries. \n7. Winners will be contacted as they are selected and will have at least 12 hours to claim their free admission pass. \nPRSALA reserves the right to change\, modify\, alter the prize\, deadline or any rules for the giveaways. PRSALA will not be responsible for any inaccurate information submitted by giveaway entries or for any issues in giveaway fulfillment outside of its control. \nThis PRSA-LA/SMCLA Event Sponsored by:
URL:https://prsala.org/event/social-media-week-panel-discussion/
LOCATION:The Broad Stage\, 1310 11th Street\, Santa Monica\, 90401
CATEGORIES:Other Events,PRSA-LA
END:VEVENT
END:VCALENDAR