BEGIN:VCALENDAR
VERSION:2.0
PRODID:-//PRSA-LA - ECPv6.15.20//NONSGML v1.0//EN
CALSCALE:GREGORIAN
METHOD:PUBLISH
X-ORIGINAL-URL:https://prsala.org
X-WR-CALDESC:Events for PRSA-LA
REFRESH-INTERVAL;VALUE=DURATION:PT1H
X-Robots-Tag:noindex
X-PUBLISHED-TTL:PT1H
BEGIN:VTIMEZONE
TZID:America/Los_Angeles
BEGIN:DAYLIGHT
TZOFFSETFROM:-0800
TZOFFSETTO:-0700
TZNAME:PDT
DTSTART:20130310T100000
END:DAYLIGHT
BEGIN:STANDARD
TZOFFSETFROM:-0700
TZOFFSETTO:-0800
TZNAME:PST
DTSTART:20131103T090000
END:STANDARD
BEGIN:DAYLIGHT
TZOFFSETFROM:-0800
TZOFFSETTO:-0700
TZNAME:PDT
DTSTART:20140309T100000
END:DAYLIGHT
BEGIN:STANDARD
TZOFFSETFROM:-0700
TZOFFSETTO:-0800
TZNAME:PST
DTSTART:20141102T090000
END:STANDARD
BEGIN:DAYLIGHT
TZOFFSETFROM:-0800
TZOFFSETTO:-0700
TZNAME:PDT
DTSTART:20150308T100000
END:DAYLIGHT
BEGIN:STANDARD
TZOFFSETFROM:-0700
TZOFFSETTO:-0800
TZNAME:PST
DTSTART:20151101T090000
END:STANDARD
END:VTIMEZONE
BEGIN:VTIMEZONE
TZID:America/Los_Angeles
BEGIN:DAYLIGHT
TZOFFSETFROM:-0800
TZOFFSETTO:-0700
TZNAME:PDT
DTSTART:20130310T100000
END:DAYLIGHT
BEGIN:STANDARD
TZOFFSETFROM:-0700
TZOFFSETTO:-0800
TZNAME:PST
DTSTART:20131103T090000
END:STANDARD
BEGIN:DAYLIGHT
TZOFFSETFROM:-0800
TZOFFSETTO:-0700
TZNAME:PDT
DTSTART:20140309T100000
END:DAYLIGHT
BEGIN:STANDARD
TZOFFSETFROM:-0700
TZOFFSETTO:-0800
TZNAME:PST
DTSTART:20141102T090000
END:STANDARD
BEGIN:DAYLIGHT
TZOFFSETFROM:-0800
TZOFFSETTO:-0700
TZNAME:PDT
DTSTART:20150308T100000
END:DAYLIGHT
BEGIN:STANDARD
TZOFFSETFROM:-0700
TZOFFSETTO:-0800
TZNAME:PST
DTSTART:20151101T090000
END:STANDARD
END:VTIMEZONE
BEGIN:VEVENT
DTSTART;TZID=America/Los_Angeles:20141203T080000
DTEND;TZID=America/Los_Angeles:20141203T090000
DTSTAMP:20260422T184720
CREATED:20141110T233006Z
LAST-MODIFIED:20141111T154351Z
UID:2685-1417593600-1417597200@prsala.org
SUMMARY:At Breakfast With...Meet the KPCC-FM Newsroom - PR Tips and Strategies to Reach Millions of Radio Listeners
DESCRIPTION:Everybody knows the two toughest-and often most dreaded-jobs in PR are phone pitching and follow-up calls. The good news is that if you know how to pitch\, journalists will happily take your call. This nuts-and-bolts session will help gain the ear and the trust of all the KPPC editorial “gatekeepers.” You will also discover: \n\nWhat reporters really think as they answer your call and read your pitch\nWhat are the best techniques to gain their attention and trust\nHow to recognize and develop news potential of any broadcast story\nFind out what stories they are looking for and how to pitch them\nWhich community/business rends are commanding coverage\n\n\nPanelists:\n\nJoanne Griffin\, Editor/Take Two\, 89.3 KPCC-FM \nJosie Huang\, Emerging Communities Reporter\, \n        89.3 KPCC-FM \nKristen Muller\, Managing Editor\, 89.3 KPCC-FM   \nMore panelists to be announced! \n  \nDate and Time: \nWednesday\, December 3\, 2014 \n8:00 a.m. to 9:00 a.m.*\nContinental breakfast will be served.\n \n(Please arrive by 7:45 a.m.; Program will begin promptly\nat 8 a.m.)\n\n\n  \nLocation: \nSouthern California Gas Co. Tower \n555 W. 5th Street (corner of 5th and Olive) \n2nd Floor (2A Conference Room) \nLos Angeles CA 90013-1011 \n  \nParking is available at the 5th and Olive lot across the street from the Gas Company Tower. Additional parking is available at Pershing Square between Hill and Olive and lot located on 6th Street and Grand (5 min. walk.) Sorry\, no parking validations. \n\n\nCost:\n\n$15 – PRSA-LA  & YP members\n$25 – Non-members/Guests\n$10 – PRSSA student members\nPayment at the door.  Check encouraged; cash also accepted.  Sorry\, no credit cards.  \n  \nRSVP: \nAdvance Reservations Required \nAlfredo E. Padilla\nAlfredo@prsala.org (Subject line: KPCC)\n\nSponsored by:\n                 
URL:https://prsala.org/event/at-breakfast-with-meet-the-kppc-fm-newsroom-tips-and-strategies-to-reach-millions-of-radio-listeners/
LOCATION:Southern California Gas Tower\, 555 W. 5th Street (corner of 5th and Olive) 2nd Floor (2A Conference Room)\, Los Angeles\, CA\, 90013-1011\, United States
END:VEVENT
BEGIN:VEVENT
DTSTART;TZID=America/Los_Angeles:20141204T090000
DTEND;TZID=America/Los_Angeles:20141231T120000
DTSTAMP:20260422T184720
CREATED:20181222T085355Z
LAST-MODIFIED:20190125T054836Z
UID:8258-1417683600-1420027200@prsala.org
SUMMARY:PRism Awards Duplicates
DESCRIPTION:Order duplicate PRism Awards Trophies or Awards of Excellence Certificates.  Once you receive your confirmation via email\, send your mailing address along with the details for inscription (or say “same” if you want the same inscription on your current trophy or certificate) to mindy@prsala.org\, subject line\, “PRism Awards Duplicates Information.”\nOrders will be taken until Wednesday\, December 31\, 2014.  Duplicate Awards of Excellence will be mailed by January 15\, 2015\, and duplicate PRism Awards trophies will be shipped by January 31\, 2015.  Prices include tax and shipping.\nFor questions\, please send a note to mindy@prsala.org
URL:https://prsala.org/event/prism-awards-duplicates/
ORGANIZER;CN="PRSA-LA":MAILTO:executive.director@prsala.org
END:VEVENT
END:VCALENDAR