BEGIN:VCALENDAR
VERSION:2.0
PRODID:-//PRSA-LA - ECPv6.15.20//NONSGML v1.0//EN
CALSCALE:GREGORIAN
METHOD:PUBLISH
X-ORIGINAL-URL:https://prsala.org
X-WR-CALDESC:Events for PRSA-LA
REFRESH-INTERVAL;VALUE=DURATION:PT1H
X-Robots-Tag:noindex
X-PUBLISHED-TTL:PT1H
BEGIN:VTIMEZONE
TZID:America/Los_Angeles
BEGIN:DAYLIGHT
TZOFFSETFROM:-0800
TZOFFSETTO:-0700
TZNAME:PDT
DTSTART:20140309T100000
END:DAYLIGHT
BEGIN:STANDARD
TZOFFSETFROM:-0700
TZOFFSETTO:-0800
TZNAME:PST
DTSTART:20141102T090000
END:STANDARD
BEGIN:DAYLIGHT
TZOFFSETFROM:-0800
TZOFFSETTO:-0700
TZNAME:PDT
DTSTART:20150308T100000
END:DAYLIGHT
BEGIN:STANDARD
TZOFFSETFROM:-0700
TZOFFSETTO:-0800
TZNAME:PST
DTSTART:20151101T090000
END:STANDARD
BEGIN:DAYLIGHT
TZOFFSETFROM:-0800
TZOFFSETTO:-0700
TZNAME:PDT
DTSTART:20160313T100000
END:DAYLIGHT
BEGIN:STANDARD
TZOFFSETFROM:-0700
TZOFFSETTO:-0800
TZNAME:PST
DTSTART:20161106T090000
END:STANDARD
END:VTIMEZONE
BEGIN:VTIMEZONE
TZID:America/Los_Angeles
BEGIN:DAYLIGHT
TZOFFSETFROM:-0800
TZOFFSETTO:-0700
TZNAME:PDT
DTSTART:20140309T100000
END:DAYLIGHT
BEGIN:STANDARD
TZOFFSETFROM:-0700
TZOFFSETTO:-0800
TZNAME:PST
DTSTART:20141102T090000
END:STANDARD
BEGIN:DAYLIGHT
TZOFFSETFROM:-0800
TZOFFSETTO:-0700
TZNAME:PDT
DTSTART:20150308T100000
END:DAYLIGHT
BEGIN:STANDARD
TZOFFSETFROM:-0700
TZOFFSETTO:-0800
TZNAME:PST
DTSTART:20151101T090000
END:STANDARD
BEGIN:DAYLIGHT
TZOFFSETFROM:-0800
TZOFFSETTO:-0700
TZNAME:PDT
DTSTART:20160313T100000
END:DAYLIGHT
BEGIN:STANDARD
TZOFFSETFROM:-0700
TZOFFSETTO:-0800
TZNAME:PST
DTSTART:20161106T090000
END:STANDARD
END:VTIMEZONE
BEGIN:VEVENT
DTSTART;TZID=America/Los_Angeles:20150307T090000
DTEND;TZID=America/Los_Angeles:20150307T160000
DTSTAMP:20260422T132125
CREATED:20150119T163720Z
LAST-MODIFIED:20150227T183015Z
UID:3009-1425718800-1425744000@prsala.org
SUMMARY:3rd Annual PRSSA One-Day Conference
DESCRIPTION:Network. Learn. Be Inspired! \n  \nSaturday\, March 7\, 2015 \n9 a.m. – 4 p.m. \n  \nPRSSA/PRSA Members: $25 \nNon-PRSSA/PRSA Attendees: $35 \n  \nFee includes all sessions\, continental breakfast\, lunch\, and sweets. \n  \nPROGRAM DETAILS \n  \nKeynote Opening Session \nBridging the Generational Divide in the Workplace: Keeping Your Sanity Working with Old Schoolers \n  \nPRESENTERS:\nChristopher Perez\, Marketing & PR Counselor\, Chris Perez Consulting \nMatt Prince\, PR Manager\, Taco Bell \n  \nMorning Breakout Sessions \n(choose one) \n  \nNailing the Interview – \nTips on making a great first impression \n  \nMODERATOR: \nJean Gonsoulin\, President\, The Gonsoulin Group \n  \nPANELISTS: \nDiane Bergman\, APR\, Vice President of Marketing and Communications\, LA Opera \nPeter Hidalgo\, APR\, Director\, Government Relations\, Time Warner Cable \nEricka Iniguez\, Senior Programs & Outreach Manager\, The LAGRANT Foundation \n  \nSeeking a Creative\, Strategic Thinker – \nWhat does being creative and strategic really mean\, and how can you develop both  \n  \nPRESENTER: \nCurt Doty\, Senior Vice President\, Creative Technology Platforms\, Weber Shandwick \n  \nAfternoon Session \n  \nBringing a PR Concept to Life:  \nCollaborating with Peers\, Learning and Sharing Best Practices \n  \nFACILITATOR: \nScott Pansky\, Co-Founder & Senior Partner\, Allison+Partners \n  \nJUDGES: \nDave Barthmuss\, Group Manager\, Policy and Product\, General Motors \nAlan Caldwell\, Southern California Communications & Government Relations Manager\, Shell Oil Co. \nEricka Iniguez\, Senior Programs & Outreach Manager\, The LAGRANT Foundation \nDeanne Yamamoto\, Managing Director – Los Angeles\, Golin \n  \nLoyala Marymount University \nUniversity Hall (Roski Dining Room) \n1 LMU Drive \nLos Angeles\, CA 90045 \nParking: Free parking is located under the building (University Hall.)  Entrance is off Lincoln Boulevard. \n  \nQuestions?  Contact Holly Ferris at holly@ferriscomm.com \n  \nSponsored by: \n \n \n  \n  \n \nSell Tickets through Eventbrite
URL:https://prsala.org/event/3rd-annual-prssa-one-day-conference/
LOCATION:Loyola Marymount University\, University Hall\, 1 LMU Drive\, Los Angeles\, CA\, 90045\, United States
END:VEVENT
BEGIN:VEVENT
DTSTART;TZID=America/Los_Angeles:20150307T090000
DTEND;TZID=America/Los_Angeles:20150307T160000
DTSTAMP:20260422T132125
CREATED:20181222T085400Z
LAST-MODIFIED:20190125T054838Z
UID:8265-1425718800-1425744000@prsala.org
SUMMARY:PRSSA One-Day Conference
DESCRIPTION:Network. Learn. Be Inspired!\n \nSaturday\, March 7\, 2015\n9 a.m. – 4 p.m.\n \nPRSSA/PRSA Members: $25\nNon-PRSSA/PRSA Attendees: $35\n \nFee includes all sessions\, continental breakfast\, lunch\, and sweets.\n \nOpening Session: Bridging the Generational Divide in the Workplace – Keeping Your Sanity Working with Old Schoolers\nPresented by:\nChristopher Perez\, Marketing & PR Counselor\, Chris Perez Consulting\nMatt Prince\, PR Manager\, Taco Bell\n \nMore program details coming soon.\n \nLoyala Marymount University\nUniversity Hall (Roski Dining Room)\n1 LMU Drive\nLos Angeles\, CA 90045\nParking: Free parking is located under the building (University Hall.)  Entrance is off Lincoln Boulevard.\n \nQuestions?  Contact Holly Ferris at holly@ferriscomm.com\n \n 
URL:https://prsala.org/event/prssa-one-day-conference-3/
LOCATION:Roski Dining Room – University Hall\, Loyola Marymount University Dr\, Los Angeles\, CA\, 90045\, United States
ORGANIZER;CN="PRSA-LA":MAILTO:executive.director@prsala.org
END:VEVENT
BEGIN:VEVENT
DTSTART;VALUE=DATE:20150319
DTEND;VALUE=DATE:20150322
DTSTAMP:20260422T132125
CREATED:20141217T211303Z
LAST-MODIFIED:20150124T185840Z
UID:2877-1426723200-1426982399@prsala.org
SUMMARY:PRSA Western District Conference\, March 19 - 21\, 2015
DESCRIPTION:Yes. Everything is PR.\nSocial media. Big Data. Consumer Marketing… it all involves PR. Really.
URL:https://prsala.org/event/2877/
END:VEVENT
BEGIN:VEVENT
DTSTART;TZID=America/Los_Angeles:20150319T130000
DTEND;TZID=America/Los_Angeles:20150321T160000
DTSTAMP:20260422T132125
CREATED:20181222T085401Z
LAST-MODIFIED:20190125T054838Z
UID:8267-1426770000-1426953600@prsala.org
SUMMARY:WDC 2015 Program and Partners
DESCRIPTION:The PRSA Western District Partners Program is the perfect place to show your support for the PRSA\, honor a colleague or market your products and services to a select group of dignitaries and business professionals.\n\nArtwork must be 300 dpi and designed as grey-scal or B&W (NO COLOR\, unless CENTER PAGE as noted)\nComposed files should include all fonts outlined and be submitted electronically as a hi-res PDF\, JPG orTIFF*\n\nDimensions and prices are as follows (as each ad will be surrounded by a white border\, art may bleed to edge of specified space):\nQuarter Page (vertical orientation: 3.625″ w x 4.875″ h) $200\nHalf Page Horizontal (7.5″ w x 4.875″ h) $275\nHalf Page Vertical (3.625″ w x 10″ h) $275\nFull Page (7.5 ” w x 10″ h) $500\nFull Page\, Inside Cover – 4 color (7.5″ w x 10″ h) $1000\n \nDeadline: Composed Final Art must be received no later than Thursday\, March 12\, 2015\nReserve Your Space by clicking on the desired ad size and submitting payment or by contacting Mindy Brundige\, mindy@prsala.org\, 1.818.582.3233\n*Send composed hi-res art files to Joanne Lichtenstein\, joanne@joannelichtenstein.com\nIf creative design services are needed for your artwork\, please contact Joanne for a quote.\n\nTo pay by check\, make check payable to PRSA-LA and mail to: \n11271 Ventura Blvd.\, #376\, Studio City\, CA 91604\nSpace is not guaranteed until payment is made in full.
URL:https://prsala.org/event/wdc-2015-program-and-partners/
LOCATION:JW Marriott Los Angeles L.A. LIVE\, 900 West Olympic Boulevard\, Los Angeles\, CA\, 90015\, United States
ORGANIZER;CN="PRSA-LA":MAILTO:executive.director@prsala.org
END:VEVENT
BEGIN:VEVENT
DTSTART;TZID=America/Los_Angeles:20150319T180000
DTEND;TZID=America/Los_Angeles:20150321T120000
DTSTAMP:20260422T132125
CREATED:20181222T085438Z
LAST-MODIFIED:20190125T054839Z
UID:8310-1426788000-1426939200@prsala.org
SUMMARY:Western District Conference
DESCRIPTION:PRSA Western District ConferenceThursday\, March 19 – Saturday\, March 21\, 2015\nJ.W. MarriottDowntown at L.A. LIVE900 West Olympic BoulevardLos Angeles\, CA 90015\nYes. Everything is PR.Social media. Big Data. Consumer Marketing….it all involves PR. Really.\nIn March 2015\, the PRSA LA Chapter will host the annual PRSA Western District Conference. The conference is the Western District’s largest professional development event\, and consistently attracts over more than 250 PR professionals from a broad range of industries and market segments. Attendees include owners\, partners\, and associates of small\, mid-size\, and large PR agencies; independent practitioners; corporate communicators; public information officers; publicists; and government and non-profit communications professionals\, all of whom come to the conference to connect with colleagues\, obtain new ideas and perspectives\, and share best practices that can immediately be implemented in their respective organizations.\nOur The theme – “Yes. Everything is PR” is for the 2015 PRSA Western District Conference will soon be announced\, and it will focus on is reflective of the rapidly-changing transforming world of PR: From the disintegration of traditional media\, to the rise of social media\, from multi-layered strategies to cutting-edge technologies; from Big Data to Big Brands; from the constant desire for new ideas for brand awareness to the ever-present need for reputation management.\nMore details will be announced soon.
URL:https://prsala.org/event/western-district-conference-2/
LOCATION:JW Marriott Los Angeles L.A. LIVE\, 900 West Olympic Boulevard\, Los Angeles\, CA\, 90015\, United States
ORGANIZER;CN="PRSA-LA":MAILTO:executive.director@prsala.org
END:VEVENT
BEGIN:VEVENT
DTSTART;TZID=America/Los_Angeles:20150320T190000
DTEND;TZID=America/Los_Angeles:20150320T220000
DTSTAMP:20260422T132125
CREATED:20181222T085401Z
LAST-MODIFIED:20190125T054839Z
UID:8268-1426878000-1426888800@prsala.org
SUMMARY:Western District Conference Dine Arounds
DESCRIPTION:As part of the Western District Conference experience\, we are offering a “Dine Around Downtown” event on Friday\, March 20th beginning at 7 p.m.  Attendees will have the opportunity to choose from a number of the area’s most popular restaurants for a delicious\, fun dinner with fellow conference participants.  Downtown LA is the city’s hottest area right now and the vibrancy and excitement of the South Park district where the Western District Conference is located makes this a truly great way to experience Los Angeles. \nIt’s simple to participate:  Choose a restaurant from the list below (more choices are expected to be added in February) and pay in advance for your meal. All meals are prix fixe menus and pricing\, and cost includes tax and tip.  Reservations will be made at the restaurant for you and all dinners start at 7 p.m. on Friday\, March 20th.  All restaurants are within easy walking distance to the conference hotel\, JW Marriott at LA Live.\n 
URL:https://prsala.org/event/western-district-conference-dine-arounds/
ORGANIZER;CN="PRSA-LA":MAILTO:executive.director@prsala.org
END:VEVENT
END:VCALENDAR