BEGIN:VCALENDAR
VERSION:2.0
PRODID:-//PRSA-LA - ECPv6.15.20//NONSGML v1.0//EN
CALSCALE:GREGORIAN
METHOD:PUBLISH
X-WR-CALNAME:PRSA-LA
X-ORIGINAL-URL:https://prsala.org
X-WR-CALDESC:Events for PRSA-LA
REFRESH-INTERVAL;VALUE=DURATION:PT1H
X-Robots-Tag:noindex
X-PUBLISHED-TTL:PT1H
BEGIN:VTIMEZONE
TZID:America/Los_Angeles
BEGIN:DAYLIGHT
TZOFFSETFROM:-0800
TZOFFSETTO:-0700
TZNAME:PDT
DTSTART:20140309T100000
END:DAYLIGHT
BEGIN:STANDARD
TZOFFSETFROM:-0700
TZOFFSETTO:-0800
TZNAME:PST
DTSTART:20141102T090000
END:STANDARD
BEGIN:DAYLIGHT
TZOFFSETFROM:-0800
TZOFFSETTO:-0700
TZNAME:PDT
DTSTART:20150308T100000
END:DAYLIGHT
BEGIN:STANDARD
TZOFFSETFROM:-0700
TZOFFSETTO:-0800
TZNAME:PST
DTSTART:20151101T090000
END:STANDARD
BEGIN:DAYLIGHT
TZOFFSETFROM:-0800
TZOFFSETTO:-0700
TZNAME:PDT
DTSTART:20160313T100000
END:DAYLIGHT
BEGIN:STANDARD
TZOFFSETFROM:-0700
TZOFFSETTO:-0800
TZNAME:PST
DTSTART:20161106T090000
END:STANDARD
END:VTIMEZONE
BEGIN:VEVENT
DTSTART;TZID=America/Los_Angeles:20150610T124500
DTEND;TZID=America/Los_Angeles:20150610T134500
DTSTAMP:20260422T084550
CREATED:20150529T065225Z
LAST-MODIFIED:20150608T210052Z
UID:3459-1433940300-1433943900@prsala.org
SUMMARY:Join PRSA-LA @ Social Media Week for Our Branded Content Panel and Save 20% on Your Full-Week Pass
DESCRIPTION:PRSA-LA is once again teaming up with Social Media Week Los Angeles (SMWLA) to be part of our region’s most dynamic and action-packed series of events exploring the intersection of social media technology\, creativity and business. \nThis time we’re focusing on L.A.’s hometown advantage when it comes to content creation. It’s no longer enough to just get clients in the newspaper and on TV; PR pros now have to be adept at creating branded content that consumers want to share. The trick is understanding how to tell a story visually and connect with influencers… and that’s where L.A. has a hometown advantage. PRSA-LA’s panel at Social Media Week will explore how agencies are leveraging L.A.’s unrivaled storytelling infrastructure and talent. We’ll have some amazing speakers — and the one thing they all have in common is that they’re helping make Los Angeles ground-zero for the branded content revolution. \n  \nPanelists: \nTony Fur – Agent\, CAA Marketing (a division of Creative Artists Agency) \nRob Jones – VP of Digital Strategy\, Edelman (@stranger109) \nLorrie Boula – President\, Soul Kitchen Management (@lorrieboo) \nBrien Grant – Senior VP of Digital\, The Wonderful Company \nClint Schaff – US General Manager\, DARE; Adjunct Professor\, USC Annenberg (@ClintSchaff) \nModerator: \nErik Deutsch – Principal\, ExcelPR Group; Immediate Past President\, PRSA-LA (@ErikDeutsch) \nHosted by Public Relations Society of America\, Los Angeles Chapter (PRSA-LA) \n  \nWhen: Wednesday\, June 10; 12:45 – 1:45 P.M.                                                                  \n  \nLocation:\nBergamot Station Arts Center\, Santa Monica \n  \nCost: \nTo register for this panel you must purchase a Social Media Week Los Angeles pass. \nPRSA-LA members have a special discount code to save 20% on admission passes for all Social Media Week Los Angeles events (June 8-12). \nVisit our event page to register\, and use the following promo codes to save 20%: \n\nThis code provides a 20% discount on SMW LA Campus passes.\nThis code provides a 20% discount on SMW LA Insider passes.\n\n  \nTWEET TO WIN GIVEAWAY (ENDS SUNDAY\, JUNE 7 @ 12:00 P.M. PDT)  \nHey… Check it out! We’re giving away 10 FREE passes to Social Media Week L.A. via our “Teet to Win” giveaway.  \n1. To enter\, retweet the following: Attend @PRSALA’s panel @ #SMWLA June 10 “L.A.’s Hometown Advantage for Branded Content” & save 20% on full-week pass http://bit.ly/prsalasmw \n2. Winners will be announced on our Twitter stream. @PRSALA will ‘follow’ each winner so the winners can then respond via DM (direct message). Winners must ‘follow’ @PRSALA in order to receive direct messages. \n3 . Ten (10) winners will be chosen randomly from eligible entries. \n4. To enter\, you must be a US resident over the age of 18. Entries will be disqualified if we believe they are generated by scripts or other automated technology. We will disqualify entries whose authorship and copyright are called into question and cannot be verified. \n5. Employees\, partners and vendors of PRSA-LA and their immediate family members are not eligible to enter. \n6. Only one retweet of each individual @PRSALA tweet will qualify as an entry\, but individuals may retweet more than one @PRSALA tweet to gain multiple entries. \n7. Winners will be announced on Twitter by 6 p.m. on Sunday\, June 7. \nPRSALA reserves the right to change\, modify\, alter the prize\, deadline or any rules for the giveaways. PRSALA will not be responsible for any inaccurate information submitted by giveaway entries or for any issues in giveaway fulfillment outside of its control. \n  \n  \n  \nThis PRSA-LA Event Sponsored by:
URL:https://prsala.org/event/join-prsa-la-social-media-week-for-l-a-s-hometown-advantage-for-branded-content-panel/
CATEGORIES:PRSA
END:VEVENT
END:VCALENDAR