BEGIN:VCALENDAR
VERSION:2.0
PRODID:-//PRSA-LA - ECPv6.15.20//NONSGML v1.0//EN
CALSCALE:GREGORIAN
METHOD:PUBLISH
X-ORIGINAL-URL:https://prsala.org
X-WR-CALDESC:Events for PRSA-LA
REFRESH-INTERVAL;VALUE=DURATION:PT1H
X-Robots-Tag:noindex
X-PUBLISHED-TTL:PT1H
BEGIN:VTIMEZONE
TZID:America/Los_Angeles
BEGIN:DAYLIGHT
TZOFFSETFROM:-0800
TZOFFSETTO:-0700
TZNAME:PDT
DTSTART:20140309T100000
END:DAYLIGHT
BEGIN:STANDARD
TZOFFSETFROM:-0700
TZOFFSETTO:-0800
TZNAME:PST
DTSTART:20141102T090000
END:STANDARD
BEGIN:DAYLIGHT
TZOFFSETFROM:-0800
TZOFFSETTO:-0700
TZNAME:PDT
DTSTART:20150308T100000
END:DAYLIGHT
BEGIN:STANDARD
TZOFFSETFROM:-0700
TZOFFSETTO:-0800
TZNAME:PST
DTSTART:20151101T090000
END:STANDARD
BEGIN:DAYLIGHT
TZOFFSETFROM:-0800
TZOFFSETTO:-0700
TZNAME:PDT
DTSTART:20160313T100000
END:DAYLIGHT
BEGIN:STANDARD
TZOFFSETFROM:-0700
TZOFFSETTO:-0800
TZNAME:PST
DTSTART:20161106T090000
END:STANDARD
END:VTIMEZONE
BEGIN:VEVENT
DTSTART;TZID=America/Los_Angeles:20150729T080000
DTEND;TZID=America/Los_Angeles:20150729T093000
DTSTAMP:20260422T064546
CREATED:20150720T191606Z
LAST-MODIFIED:20150728T164315Z
UID:3722-1438156800-1438162200@prsala.org
SUMMARY:At Breakfast With....L.A.'s Top Newswires
DESCRIPTION:  \nCoverage for your news\, event\, business or product in any media outlet is a huge score. But how can you break through the clutter and grab the attention of busy editors and reporters? Learn the answer firsthand when you join this exclusive panel for an in-depth discussion with L.A.’s most influential newswire reporters and editorial gatekeepers. \nEach panelist will share insights on what to pitch\, when to pitch\, and how to pitch everything — from evergreen executive profiles and trend pieces to human interest stories. You’ll leave with practical tips on how to win major points with both your boss and the press. \n  \nWho: \nPanelists:  \n  \nAnthony Marquez\, L.A. Bureau Chief\, Associated Press  \n  \nLori Streifler\, Editor\, City News Service   \n  \nDaniel Taub\, Real Estate Editor\, Bloomberg News   \n  \nWhen: \nWednesday\, July 29\, 2015 \n8:00 a.m. to 9:30 a.m.* \nContinental breakfast will be served. \n(*Please arrive by 7:45 a.m.; Program will begin promptly at 8 a.m.) \n  \nWhere: \nThe Gas Company Tower \n555 W. 5th Street (corner of 5th and Olive) \n2nd Floor (Conference Room 2A) \nLos Angeles CA 90013-1011 \nParking is available at the 5th and Olive lot across the street from the Gas Company Tower. Additional parking is available at Pershing Square between Hill and Olive and lot located on 6th Street and Grand – (5 min. walk) Sorry\, no parking validations. \n  \nRSVP and Cost: \n$15 – PRSA-LA  & YP members \n$25 – Non-members/Guests \n$10 – PRSSA student members \nPayment at the door.  Check encouraged; cash also accepted.  Sorry\, no credit cards.  \nAdvance Reservations Required  \nAlfredo E. Padilla \nAlfredo@prsala.org (Subject line: Wire Service News) \n  \nSponsored by:
URL:https://prsala.org/event/at-breakfast-with-l-a-s-top-newswires/
LOCATION:Southern California Gas Tower\, 555 W. 5th Street (corner of 5th and Olive) 2nd Floor (2A Conference Room)\, Los Angeles\, CA\, 90013-1011\, United States
END:VEVENT
BEGIN:VEVENT
DTSTART;TZID=America/Los_Angeles:20150730T183000
DTEND;TZID=America/Los_Angeles:20150730T203000
DTSTAMP:20260422T064546
CREATED:20150724T142129Z
LAST-MODIFIED:20150724T142129Z
UID:3730-1438281000-1438288200@prsala.org
SUMMARY:PRSA-LA Young Professionals - Digital Influencers Panel
DESCRIPTION:RSVP must go to \nJADESTEVENS@LAGRANT.COM OR (323) 469-8680 EXT. 230
URL:https://prsala.org/event/prsa-la-young-professionals-digital-influencers-panel/
LOCATION:Hilton Checkers Hotel\, 535 S. Grand Avenue\, Los Angeles\, CA\, 90071
END:VEVENT
END:VCALENDAR