BEGIN:VCALENDAR
VERSION:2.0
PRODID:-//PRSA-LA - ECPv6.15.20//NONSGML v1.0//EN
CALSCALE:GREGORIAN
METHOD:PUBLISH
X-ORIGINAL-URL:https://prsala.org
X-WR-CALDESC:Events for PRSA-LA
REFRESH-INTERVAL;VALUE=DURATION:PT1H
X-Robots-Tag:noindex
X-PUBLISHED-TTL:PT1H
BEGIN:VTIMEZONE
TZID:America/Los_Angeles
BEGIN:DAYLIGHT
TZOFFSETFROM:-0800
TZOFFSETTO:-0700
TZNAME:PDT
DTSTART:20140309T100000
END:DAYLIGHT
BEGIN:STANDARD
TZOFFSETFROM:-0700
TZOFFSETTO:-0800
TZNAME:PST
DTSTART:20141102T090000
END:STANDARD
BEGIN:DAYLIGHT
TZOFFSETFROM:-0800
TZOFFSETTO:-0700
TZNAME:PDT
DTSTART:20150308T100000
END:DAYLIGHT
BEGIN:STANDARD
TZOFFSETFROM:-0700
TZOFFSETTO:-0800
TZNAME:PST
DTSTART:20151101T090000
END:STANDARD
BEGIN:DAYLIGHT
TZOFFSETFROM:-0800
TZOFFSETTO:-0700
TZNAME:PDT
DTSTART:20160313T100000
END:DAYLIGHT
BEGIN:STANDARD
TZOFFSETFROM:-0700
TZOFFSETTO:-0800
TZNAME:PST
DTSTART:20161106T090000
END:STANDARD
END:VTIMEZONE
BEGIN:VTIMEZONE
TZID:America/Los_Angeles
BEGIN:DAYLIGHT
TZOFFSETFROM:-0800
TZOFFSETTO:-0700
TZNAME:PDT
DTSTART:20140309T100000
END:DAYLIGHT
BEGIN:STANDARD
TZOFFSETFROM:-0700
TZOFFSETTO:-0800
TZNAME:PST
DTSTART:20141102T090000
END:STANDARD
BEGIN:DAYLIGHT
TZOFFSETFROM:-0800
TZOFFSETTO:-0700
TZNAME:PDT
DTSTART:20150308T100000
END:DAYLIGHT
BEGIN:STANDARD
TZOFFSETFROM:-0700
TZOFFSETTO:-0800
TZNAME:PST
DTSTART:20151101T090000
END:STANDARD
BEGIN:DAYLIGHT
TZOFFSETFROM:-0800
TZOFFSETTO:-0700
TZNAME:PDT
DTSTART:20160313T100000
END:DAYLIGHT
BEGIN:STANDARD
TZOFFSETFROM:-0700
TZOFFSETTO:-0800
TZNAME:PST
DTSTART:20161106T090000
END:STANDARD
END:VTIMEZONE
BEGIN:VEVENT
DTSTART;TZID=America/Los_Angeles:20150805T173000
DTEND;TZID=America/Los_Angeles:20150805T200000
DTSTAMP:20260422T050240
CREATED:20150707T183146Z
LAST-MODIFIED:20150715T190425Z
UID:3695-1438795800-1438804800@prsala.org
SUMMARY:From the Frontlines: What You Need to Know Now for the Crisis Ahead
DESCRIPTION:  \nJoin PRSA-LA for an in-depth conversation with corporate leaders on crisis communications. Drawing on their personal experiences managing through crises of all scales\, panelists will get real on preparing for\, managing through and recovering from the inevitable. Experts will provide in-the-trenches perspectives on high-profile crises\, share lessons learned and provide tips on developing a crisis mindset. \n  \nPanelists:  \nBrian O’Connor\, Vice President Public Relations\, Princess Cruises \nAlan Caldwell\, External Relations Manager\, Southern California\, Shell Oil Company \nMike Michels\, former Vice President Corporate Communications\, Toyota Motor Sales \nModerator: \nMary Grady\, Managing Director of Media and Public Relations\, LA World Airports \n  \nDate and Time: \nWednesday\, August 5\, 2015 \nCheck In and Networking: 5:30 – 6:30 p.m. (Light meal\, no host bar) \nProgram\, panel discussion\, Q&A: 6:30 – 8:00 p.m. \n  \nLocation: \nLuxe Hotel Sunset \n11461 Sunset Boulevard \nLos Angeles\, CA 90049 \nClick here for directions and parking information.  Valet parking $15 per car. \n  \nSponsored by: \n  \n \n  \nPlease register below! \n  \n \nPowered by Eventbrite
URL:https://prsala.org/event/chapter-program/
LOCATION:Luxe Hotel Sunset\, 11461 Sunset Boulevard\, Los Angeles\, CA\, 90049\, United States
END:VEVENT
BEGIN:VEVENT
DTSTART;TZID=America/Los_Angeles:20150805T173000
DTEND;TZID=America/Los_Angeles:20150805T203000
DTSTAMP:20260422T050240
CREATED:20181222T085439Z
LAST-MODIFIED:20190125T055121Z
UID:8311-1438795800-1438806600@prsala.org
SUMMARY:From the Frontlines
DESCRIPTION:From the Frontlines:  What You Need to Know Now for the Crisis Ahead\nJoin PRSA-LA for an in-depth conversation with corporate leaders on crisis communications. Drawing on their personal experiences managing through crises of all scales\, panelists will get real on preparing for\, managing through and recovering from the inevitable. Experts will provide in-the-trenches perspectives on high-profile crises\, share lessons learned and provide tips on developing a crisis mindset.\nPanelists: \nBrian O’Connor\, Vice President Public Relations\, Princess Cruises\nAlan Caldwell\, Corporate Communications and Brand Manager\, Shell Oil Company\nMike Michels\, former Vice President Corporate Communications\, Toyota Motor Sales\nModerator:\nMary Grady\, Managing Director of Media and Public Relations\, LA World Airports \n\n 
URL:https://prsala.org/event/from-the-frontlines/
LOCATION:Luxe Sunset Boulevard Hotel\, 11461 Sunset Blvd\, Los Angeles\, CA\, 90049\, United States
ORGANIZER;CN="PRSA-LA":MAILTO:executive.director@prsala.org
END:VEVENT
BEGIN:VEVENT
DTSTART;TZID=America/Los_Angeles:20150820T180000
DTEND;TZID=America/Los_Angeles:20150820T200000
DTSTAMP:20260422T050241
CREATED:20150707T183827Z
LAST-MODIFIED:20150730T175207Z
UID:3696-1440093600-1440100800@prsala.org
SUMMARY:PRSA-LA Summer Social
DESCRIPTION:FREE to PRSA Members! \n  \nThursday\, August 20\, 6 – 8 pm \nOcean Prime \n9595 Wilshire Blvd. \nBeverly Hills\, CA 90212 \n  \nJoin PRSA-LA as we wind down the summer in style on the patio of one of Beverly Hills hottest locations\, Ocean Prime! \n  \n \n  \n“The 25 Best New Restaurants in LA.”\n– Zagat \n“One of the most stunning\, sophisticated and satisfying restaurants to appear in a long\, long time.”\n– Huffington Post \n  \nFREE for PRSA-LA Members  ●  $25 for non-members \n  \n► Two hosted drinks plus cash bar \n► Complimentary passed hors d’ oeuvres \n► Catch up with PR colleagues and meet new ones \n  \nPRSA MEMBERSHIP PROMOTION: \n\nNon-members join PRSA as a Regular member* by August 20\, attend the Summer Social for FREE and receive a one-year PRSA-LA chapter membership for FREE too! Click here to join; use promo code CHAPT15 and select Los Angeles Chapter. *Promotion begins August 1\, 2015. Restrictions: Regular members ($255 annual dues+$65 initiation fee.) Not available for Associate member types ($155 or less annual dues) and current/renewing members. A savings of $95!\n\n  \n\nPRSA-LA members bring a qualified guest who joins PRSA by end of August and you’ll be entered to win a VIP Pass to the World Famous Magic Castle (access for up to 8 guests).\n\n  \nMAP & PARKING: \nRestaurant Valet Parking: $10 for the first 2 hours and $2 every hour past two (enter off Camden\, a one-way street\, from Wilshire). \nSelf Parking: The City of Beverly Hills garages are a flat rate of $5 after 6 PM.  Nearest lot is on Brighton Way\, between Rodeo and Camden http://www.beverlyhills.org/citygovernment/parkingservices/cityparkingstructures/​ \n  \nAdvance registration required to guarantee attendance. Space is limited; register below now to reserve your spot! \n  \n \nPowered by Eventbrite
URL:https://prsala.org/event/member-mixer/
END:VEVENT
BEGIN:VEVENT
DTSTART;TZID=America/Los_Angeles:20150820T180000
DTEND;TZID=America/Los_Angeles:20150820T200000
DTSTAMP:20260422T050241
CREATED:20181222T085403Z
LAST-MODIFIED:20190125T054840Z
UID:8271-1440093600-1440100800@prsala.org
SUMMARY:PRSA-LA Summer Social
DESCRIPTION:Thursday\, August 20\, 6 – 8 pm\nOcean Prime\n9595 Wilshire Blvd.\nBeverly Hills\, CA 90212 “The 25 Best New Restaurants in LA.” – Zagat\n                                                         \n \nJoin PRSA-LA as we wind down the summer in style on the patio of one of Beverly Hills hottest locations\, Ocean Prime!\n(insert logo)\n“The 25 Best New Restaurants in LA.” – Zagat\n“One of the most stunning\, sophisticated and satisfying restaurants to appear in a long\, long time.”  – Huffington Post\n \nFREE for PRSA-LA Members  ●  $25 for non-members\n \n► Two hosted drinks plus cash bar\n► Complimentary passed hors d’ oeuvres\n► Catch up with PR colleagues and meet new ones\n \nPRSA MEMBERSHIP PROMOTION:\n● Non-members join PRSA by August 20\, attend the Summer Social for FREE and receive a one-year PRSA-LA chapter membership for FREE too!  Click here to join (insert link)\n \n● PRSA-LA members bring a qualified guest who joins PRSA by end of August and you’ll be entered to win a VIP Pass to the World Famous Magic Castle (access for up to 8 guests).\n \nMAP & PARKING:\nRestaurant Valet Parking: $10 for the first 2 hours and $2 every hour past two (enter off Camden\, a one-way street\, from Wilshire).\nSelf Parking: The City of Beverly Hills garages are a flat rate of $5 after 6 PM.  Nearest lot is on Brighton Way\, between Rodeo and Camden http://www.beverlyhills.org/citygovernment/parkingservices/cityparkingstructures/\n 
URL:https://prsala.org/event/prsa-la-summer-social/
LOCATION:Ocean Prime Beverly Hills\, 9595 Wilshire Boulevard\, Beverly Hills\, CA\, 90212\, United States
ORGANIZER;CN="PRSA-LA":MAILTO:executive.director@prsala.org
END:VEVENT
END:VCALENDAR