BEGIN:VCALENDAR
VERSION:2.0
PRODID:-//PRSA-LA - ECPv6.15.20//NONSGML v1.0//EN
CALSCALE:GREGORIAN
METHOD:PUBLISH
X-ORIGINAL-URL:https://prsala.org
X-WR-CALDESC:Events for PRSA-LA
REFRESH-INTERVAL;VALUE=DURATION:PT1H
X-Robots-Tag:noindex
X-PUBLISHED-TTL:PT1H
BEGIN:VTIMEZONE
TZID:America/Los_Angeles
BEGIN:DAYLIGHT
TZOFFSETFROM:-0800
TZOFFSETTO:-0700
TZNAME:PDT
DTSTART:20140309T100000
END:DAYLIGHT
BEGIN:STANDARD
TZOFFSETFROM:-0700
TZOFFSETTO:-0800
TZNAME:PST
DTSTART:20141102T090000
END:STANDARD
BEGIN:DAYLIGHT
TZOFFSETFROM:-0800
TZOFFSETTO:-0700
TZNAME:PDT
DTSTART:20150308T100000
END:DAYLIGHT
BEGIN:STANDARD
TZOFFSETFROM:-0700
TZOFFSETTO:-0800
TZNAME:PST
DTSTART:20151101T090000
END:STANDARD
BEGIN:DAYLIGHT
TZOFFSETFROM:-0800
TZOFFSETTO:-0700
TZNAME:PDT
DTSTART:20160313T100000
END:DAYLIGHT
BEGIN:STANDARD
TZOFFSETFROM:-0700
TZOFFSETTO:-0800
TZNAME:PST
DTSTART:20161106T090000
END:STANDARD
END:VTIMEZONE
BEGIN:VTIMEZONE
TZID:America/Los_Angeles
BEGIN:DAYLIGHT
TZOFFSETFROM:-0800
TZOFFSETTO:-0700
TZNAME:PDT
DTSTART:20140309T100000
END:DAYLIGHT
BEGIN:STANDARD
TZOFFSETFROM:-0700
TZOFFSETTO:-0800
TZNAME:PST
DTSTART:20141102T090000
END:STANDARD
BEGIN:DAYLIGHT
TZOFFSETFROM:-0800
TZOFFSETTO:-0700
TZNAME:PDT
DTSTART:20150308T100000
END:DAYLIGHT
BEGIN:STANDARD
TZOFFSETFROM:-0700
TZOFFSETTO:-0800
TZNAME:PST
DTSTART:20151101T090000
END:STANDARD
BEGIN:DAYLIGHT
TZOFFSETFROM:-0800
TZOFFSETTO:-0700
TZNAME:PDT
DTSTART:20160313T100000
END:DAYLIGHT
BEGIN:STANDARD
TZOFFSETFROM:-0700
TZOFFSETTO:-0800
TZNAME:PST
DTSTART:20161106T090000
END:STANDARD
END:VTIMEZONE
BEGIN:VEVENT
DTSTART;TZID=America/Los_Angeles:20151014T080000
DTEND;TZID=America/Los_Angeles:20151014T090000
DTSTAMP:20260422T020741
CREATED:20150916T020604Z
LAST-MODIFIED:20150930T132742Z
UID:3931-1444809600-1444813200@prsala.org
SUMMARY:At Breakfast With... Business Reporters
DESCRIPTION:  \nMedia Tips for Pitching to Business Journal Reporters:  \nIncrease your Press Coverage in Top Media Outlets \nWednesday\, Oct.14\, 2015  \n8 a.m. to 9 a.m. \nWho: Marni Usheroff\, staff writer\, Los Angeles Business Journal \nMark Madler\, editor\, San Fernando Valley Business Journal \nMore panelists to be announced… \n  \nWhat: Coverage for your news\, event\, business or product in any media outlet is a huge score. How valuable would it be to hear the freshest insights and inside tips for generating media coverage from a panel of the top business journalists? \nBut how can you break through the clutter and grab the attention of busy editors and reporters. Learn the answers to these questions and many others firsthand when you join this exclusive panel for an in-depth discussion with the most influential newsgathering reporters and editorial gatekeepers. \n  \nWhen: Wednesday\, Oct. 14\, 2015 \n8:00 – 9:00 a.m. \nPlease arrive at 7:45 a.m. Program will begin promptly at 8:00 a.m. \n  \nWhere: Los Angeles Area Chamber of Commerce \n350 S. Bixel Street; Los Angeles\, CA 90017 \n  \nParking: Paid parking is available below the Chamber Building. The garage entrance is on 4th Street and the price is $2 for every 15 minutes with a maximum daily charge of $10. Metered parking is also available surrounding the Chamber. \nFor directions go to: http://www.lachamber.com/index.php?category=Main&ref=contactus&src=gendocs \n  \nCost: $15 for PRSA members\, $25 for non-members\, $10 for PRSSA student members. Payment by check encouraged; cash also accepted. Sorry\, no credit cards. \nRSVP: RSVP – ADVANCE RESERVATIONS REQUIRED — RSVP to Alfredo E. Padilla; alfredo@prsala.org (Subject line: Business Reporters) \n*Please arrive at 7:45 a.m. Program will begin promptly at 8:00 a.m.; \n  \n  \nSponsored by:
URL:https://prsala.org/event/at-breakfast-with-biz-journal-reporters/
LOCATION:Los Angeles Area Chamber of Commerce\, 350 S. Bixel Street\, Los Angeles\, 90017\, United States
CATEGORIES:PRSA-LA
END:VEVENT
BEGIN:VEVENT
DTSTART;TZID=America/Los_Angeles:20151024T083000
DTEND;TZID=America/Los_Angeles:20151024T133000
DTSTAMP:20260422T020741
CREATED:20151016T175434Z
LAST-MODIFIED:20151016T175434Z
UID:4089-1445675400-1445693400@prsala.org
SUMMARY:Quality Time with PR Minds
DESCRIPTION:
URL:https://prsala.org/event/quality-time-with-pr-minds-2/
LOCATION:UCLA Extension Campus\, Gayley Center\, 1145 Gayley Avenue\, Los Angeles\, CA\, 90024\, United States
CATEGORIES:PRSA-LA
END:VEVENT
BEGIN:VEVENT
DTSTART;TZID=America/Los_Angeles:20151024T083000
DTEND;TZID=America/Los_Angeles:20151024T133000
DTSTAMP:20260422T020741
CREATED:20181222T085406Z
LAST-MODIFIED:20190125T054841Z
UID:8275-1445675400-1445693400@prsala.org
SUMMARY:Quality Time with PR Minds - CALL FOR VOLUNTEERS!
DESCRIPTION:Calling all PR professionals who want to give back!  If you have at least two years of PR experience and are interested in donating your time and creativity to some very worthy nonprofits\, then join PRSA-LA’s “Quality Time with PR Minds” on Saturday\, October 24 from 8:30 am – 1:30 p.m. at the UCLA Extension campus in downtown Los Angeles.\n Quality Time is your opportunity to make a significant contribution in just one day by helping to inspire\, encourage and empower local nonprofits to tackle their most challenging communications issues. The event also offers a unique venue to network and collaborate. Share your expertise and gain knowledge as you team up with other PR professionals and nonprofits for stimulating and productive brainstorm sessions.\n You will be teamed up with one or two other PR professionals to engage in one-on-one brainstorming and consultation with participating nonprofits serving the Greater Los Angeles area.   \n \nDate:  Saturday\, October 24\, 2015\nTime:   8:30 a.m. – 1:30 p.m.\nFREE breakfast and lunch for all volunteers and attendees\nLocation:    \nUCLA Extension at Figueroa Courtyard\n261 S. Figueroa St.\nLos Angeles\, CA 90071
URL:https://prsala.org/event/quality-time-with-pr-minds-call-for-volunteers/
LOCATION:UCLA Extension Downtown L.A.\, 261 S. Figueroa St.\, Los Angeles\, California\, 90071\, United States
ORGANIZER;CN="PRSA-LA":MAILTO:executive.director@prsala.org
END:VEVENT
END:VCALENDAR