BEGIN:VCALENDAR
VERSION:2.0
PRODID:-//PRSA-LA - ECPv6.15.20//NONSGML v1.0//EN
CALSCALE:GREGORIAN
METHOD:PUBLISH
X-ORIGINAL-URL:https://prsala.org
X-WR-CALDESC:Events for PRSA-LA
REFRESH-INTERVAL;VALUE=DURATION:PT1H
X-Robots-Tag:noindex
X-PUBLISHED-TTL:PT1H
BEGIN:VTIMEZONE
TZID:America/Los_Angeles
BEGIN:DAYLIGHT
TZOFFSETFROM:-0800
TZOFFSETTO:-0700
TZNAME:PDT
DTSTART:20150308T100000
END:DAYLIGHT
BEGIN:STANDARD
TZOFFSETFROM:-0700
TZOFFSETTO:-0800
TZNAME:PST
DTSTART:20151101T090000
END:STANDARD
BEGIN:DAYLIGHT
TZOFFSETFROM:-0800
TZOFFSETTO:-0700
TZNAME:PDT
DTSTART:20160313T100000
END:DAYLIGHT
BEGIN:STANDARD
TZOFFSETFROM:-0700
TZOFFSETTO:-0800
TZNAME:PST
DTSTART:20161106T090000
END:STANDARD
BEGIN:DAYLIGHT
TZOFFSETFROM:-0800
TZOFFSETTO:-0700
TZNAME:PDT
DTSTART:20170312T100000
END:DAYLIGHT
BEGIN:STANDARD
TZOFFSETFROM:-0700
TZOFFSETTO:-0800
TZNAME:PST
DTSTART:20171105T090000
END:STANDARD
END:VTIMEZONE
BEGIN:VTIMEZONE
TZID:America/Los_Angeles
BEGIN:DAYLIGHT
TZOFFSETFROM:-0800
TZOFFSETTO:-0700
TZNAME:PDT
DTSTART:20150308T100000
END:DAYLIGHT
BEGIN:STANDARD
TZOFFSETFROM:-0700
TZOFFSETTO:-0800
TZNAME:PST
DTSTART:20151101T090000
END:STANDARD
BEGIN:DAYLIGHT
TZOFFSETFROM:-0800
TZOFFSETTO:-0700
TZNAME:PDT
DTSTART:20160313T100000
END:DAYLIGHT
BEGIN:STANDARD
TZOFFSETFROM:-0700
TZOFFSETTO:-0800
TZNAME:PST
DTSTART:20161106T090000
END:STANDARD
BEGIN:DAYLIGHT
TZOFFSETFROM:-0800
TZOFFSETTO:-0700
TZNAME:PDT
DTSTART:20170312T100000
END:DAYLIGHT
BEGIN:STANDARD
TZOFFSETFROM:-0700
TZOFFSETTO:-0800
TZNAME:PST
DTSTART:20171105T090000
END:STANDARD
END:VTIMEZONE
BEGIN:VEVENT
DTSTART;TZID=America/Los_Angeles:20160128T170000
DTEND;TZID=America/Los_Angeles:20160128T200000
DTSTAMP:20260419T203118
CREATED:20160113T170110Z
LAST-MODIFIED:20160128T161733Z
UID:4391-1454000400-1454011200@prsala.org
SUMMARY:Happy Hour at The Crossing
DESCRIPTION:TICKET SALES CLOSE AT NOON. THIS EVENT IS ALMOST SOLD OUT. A LIMITED NUMBER OF WALK IN TICKETS WILL BE AVAILABLE.\n\nWas your New Year’s resolution to network more? Ours\, too! Join us for PRSA-LA’s first happy hour of the year at The Crossing. Everyone in LA’s PR community as well as our friends in media are invited to join us to kick-off an exciting new year for the chapter and for our city. We’ll toast last year’s achievements\, welcome new chapter leadership\, make new contacts and celebrate the year ahead.\n  \nToast the New Year With Us! \nThe Crossing\n200 S. Hill St.\nLos Angeles\, CA 90012 \nAdvance reservations required! \n(Parking in paid lot\, Joe’s Parking approx. $6\, on Hill St. between 2nd and 3rd or metered street parking; two blocks from Civic Center/Grand Park Metro station.) \n\n\n\nBring business cards and get ready to network. Meet the 2016 board of directors. Space is limited\, so advance reservations are a must! $20 per person; pay by credit card in advance or at the door by cash or check. Even if paying at the door\, you must have a reservation so we know you’re coming! Register below. \nOne signature cocktail per person and light appetizers included in ticket price. \n\nIf you have a professional designation such as APR or Fellow PRSA\, please add it after your last name on the order form. Example: Victoria Lelash\, APR (First name\, Victoria; Last name\, Lelash\, APR) \n  \nTICKET SALES CLOSE AT NOON. THIS EVENT IS ALMOST SOLD OUT. A LIMITED NUMBER OF WALK IN TICKETS WILL BE AVAILABLE. \n\n  \n\n\n \nPowered by Eventbrite
URL:https://prsala.org/event/business-after-hours/
END:VEVENT
BEGIN:VEVENT
DTSTART;TZID=America/Los_Angeles:20160128T170000
DTEND;TZID=America/Los_Angeles:20160128T200000
DTSTAMP:20260419T203118
CREATED:20181222T085407Z
LAST-MODIFIED:20190125T054842Z
UID:8277-1454000400-1454011200@prsala.org
SUMMARY:PRSA-LA Happy Hour at The Crossing
DESCRIPTION:Come toast the new year with PRSA-LA! Bring business cards and get ready to network. Meet the 2016 board of directors. Space is limited\, so advance reservations are a must;$20 by credit card advance payment; cash or check if paying at the door. Even if paying at the door\, you must have a reservation so we know you’re coming!\nSignature cocktail and light appetizers included in ticket price.\nIf you have a professional designation such as APR or Fellow PRSA\, please add it after your last name on the order form.  Example: Victoria Lelash\, APR (First name\, Victoria; Last name\, Lelash\, APR)
URL:https://prsala.org/event/prsa-la-happy-hour-at-the-crossing/
LOCATION:The Crossing\, 200 S. Hill Street\, Los Angeles\, CA\, 90012\, United States
ORGANIZER;CN="PRSA-LA":MAILTO:executive.director@prsala.org
END:VEVENT
END:VCALENDAR