BEGIN:VCALENDAR
VERSION:2.0
PRODID:-//PRSA-LA - ECPv6.15.20//NONSGML v1.0//EN
CALSCALE:GREGORIAN
METHOD:PUBLISH
X-ORIGINAL-URL:https://prsala.org
X-WR-CALDESC:Events for PRSA-LA
REFRESH-INTERVAL;VALUE=DURATION:PT1H
X-Robots-Tag:noindex
X-PUBLISHED-TTL:PT1H
BEGIN:VTIMEZONE
TZID:America/Los_Angeles
BEGIN:DAYLIGHT
TZOFFSETFROM:-0800
TZOFFSETTO:-0700
TZNAME:PDT
DTSTART:20150308T100000
END:DAYLIGHT
BEGIN:STANDARD
TZOFFSETFROM:-0700
TZOFFSETTO:-0800
TZNAME:PST
DTSTART:20151101T090000
END:STANDARD
BEGIN:DAYLIGHT
TZOFFSETFROM:-0800
TZOFFSETTO:-0700
TZNAME:PDT
DTSTART:20160313T100000
END:DAYLIGHT
BEGIN:STANDARD
TZOFFSETFROM:-0700
TZOFFSETTO:-0800
TZNAME:PST
DTSTART:20161106T090000
END:STANDARD
BEGIN:DAYLIGHT
TZOFFSETFROM:-0800
TZOFFSETTO:-0700
TZNAME:PDT
DTSTART:20170312T100000
END:DAYLIGHT
BEGIN:STANDARD
TZOFFSETFROM:-0700
TZOFFSETTO:-0800
TZNAME:PST
DTSTART:20171105T090000
END:STANDARD
END:VTIMEZONE
BEGIN:VTIMEZONE
TZID:America/Los_Angeles
BEGIN:DAYLIGHT
TZOFFSETFROM:-0800
TZOFFSETTO:-0700
TZNAME:PDT
DTSTART:20150308T100000
END:DAYLIGHT
BEGIN:STANDARD
TZOFFSETFROM:-0700
TZOFFSETTO:-0800
TZNAME:PST
DTSTART:20151101T090000
END:STANDARD
BEGIN:DAYLIGHT
TZOFFSETFROM:-0800
TZOFFSETTO:-0700
TZNAME:PDT
DTSTART:20160313T100000
END:DAYLIGHT
BEGIN:STANDARD
TZOFFSETFROM:-0700
TZOFFSETTO:-0800
TZNAME:PST
DTSTART:20161106T090000
END:STANDARD
BEGIN:DAYLIGHT
TZOFFSETFROM:-0800
TZOFFSETTO:-0700
TZNAME:PDT
DTSTART:20170312T100000
END:DAYLIGHT
BEGIN:STANDARD
TZOFFSETFROM:-0700
TZOFFSETTO:-0800
TZNAME:PST
DTSTART:20171105T090000
END:STANDARD
END:VTIMEZONE
BEGIN:VEVENT
DTSTART;TZID=America/Los_Angeles:20160303T173000
DTEND;TZID=America/Los_Angeles:20160303T203000
DTSTAMP:20260419T164847
CREATED:20181222T085408Z
LAST-MODIFIED:20190125T054843Z
UID:8279-1457026200-1457037000@prsala.org
SUMMARY:March Chapter Program
DESCRIPTION:“Converting Critics\, Skeptics and Cynics: Audience Engagement Strategies for 2016”\n \nPRSA-LA is pleased to announce the first program in the Competitive Advantage Series\, quarterly programs that will bring together industry leaders to discuss the most important issues facing our industry as well as to showcase the latest best practices.\nAt a time when criticism is currency and skepticism abounds\, companies\, organizations and even candidates are working harder than ever to find and win audiences. Authenticity and transparency have never been more important as our client’s and company’s continue to build relationships not only with our target audiences but also those who influence their decision-making.\nThe evening’s program will feature the results of Edelman’s 2016 Trust Barometer global study and highlight a new model of influence. We’ll also learn lessons from the field from our panel of experts\, including compelling case studies on General Motors\, Chevron and Walmart. During the moderated panel we’ll discuss audience engagement strategies that build bridges with even the most critical audiences\, and how to turn detractors and opponents into partners and advocates.\n \nPanelists:\nRobert Alaniz\, Senior Partner\, Milagro Strategy Group \nMorgan Crinklaw\, Manager\, Issues Management Communications\, Chevron Corporation\nDeborah Kazenelson Deane\, Executive Vice President\, Edelman Los Angeles \n \nModerator: \nDave Barthmuss\, West Coast Group Manager\, Communications\, General Motors Company \n \nDate:  Thursday\, March 3\, 2016\nTime: \n5:30 – 6:30 p.m.             Registration\, networking mixer\n6:30 – 8:00 p.m.             Moderated panel presentation\n \nLocation: \nOmni Los Angeles Hotel at California Plaza\n251 South Olive Street\nLos Angeles\, CA 90012\nClick here for directions.
URL:https://prsala.org/event/march-chapter-program/
LOCATION:Omni Hotel Downtown Los Angeles\, 251 South Olive Street\, Los Angeles\, CA\, 90012\, United States
ORGANIZER;CN="PRSA-LA":MAILTO:executive.director@prsala.org
END:VEVENT
BEGIN:VEVENT
DTSTART;TZID=America/Los_Angeles:20160303T180000
DTEND;TZID=America/Los_Angeles:20160303T200000
DTSTAMP:20260419T164847
CREATED:20160217T172349Z
LAST-MODIFIED:20160302T182640Z
UID:4562-1457028000-1457035200@prsala.org
SUMMARY:Converting Critics\, Skeptics and Cynics: Audience Engagement Strategies for 2016
DESCRIPTION:  \nWant to turn haters into advocates? Attend PRSA-LA’s first Competitive Advantage Series event on March 3rd to learn the latest strategies and best practices… and be prepared to network with L.A.’s top PR pros!\n\n\nPRSA-LA is pleased to announce the first program in our Competitive Advantage Series of quarterly events bringing together industry leaders to discuss the most important issues facing our industry\, while also showcasing the latest best practices. \nOur March 3rd kickoff event comes at a time when criticism is currency and skepticism abounds; companies\, organizations and candidates are working harder than ever to find and win audiences. Authenticity and transparency have never been more important\, as PR pros are tasked with building relationships not only with target audiences\, but also with the influencers who affect their decision-making. \nOur program will feature results from Edelman’s 2016 Trust Barometer global study\, which highlights a new model of influence. We’ll also learn lessons from our in-the-trenches panel of experts\, with compelling case studies from General Motors\, Chevron and many more. They will discuss audience engagement strategies for building bridges and turning even the most ardent haters into partners and advocates. \nPanelists: \n\nRobert Alaniz\, Senior Partner\, Milagro Strategy Group\nMorgan Crinklaw\, Manager\, Issues Management Communications\, Chevron Corporation\nDeborah Kazenelson Deane\, Executive Vice President\, Edelman Los Angeles\nClint Schaff\, Vice President & US General Manager\, Camp Playa (Vision7 International)\n\nModerator:\n\n\nDave Barthmuss\, West Coast Group Manager\, Communications\, General Motors Company\n\n\n\n\n\n[vc_row][vc_column width=”1/1″]\n[/vc_column][/vc_row][vc_row][vc_column width=”1/1″][vc_tabs style=”tab-style-one” interval=”0″][vc_tab title=”Event Info” tab_id=”1456940368-1-66″][vc_column_text] \n\nDate and Time:\nThursday\, March 3\, 2016\n5:30 – 6:30 p.m. – Check-in and Networking Reception\n(Light meal; no host cash bar)\n6:30 – 8:30 p.m. – Moderated Panel Presentation\, Q & A\n\nLocation:\n\n\nOmni Los Angeles Hotel at California Plaza\n251 South Olive Street\nLos Angeles\, CA 90012\n\nClick here for directions and parking information.  Valet parking $15 per car.\nCost:  \n\n\n\n\n\n$45 – PRSA-LA Members\n$65 – Non Members and Guests\n$25 – Young Professionals and PRSSA\n\n\n\n\nRSVP:\n\n\nAdvance reservation required for guaranteed attendance; no cancellations or refunds after Monday\, February 29. Register below! \n\n\n\n\nNote\, please type your name as you would like it to appear on the name badge. If you use all lower case letters for your first and last name\, your name badge will have all lower case letters. If you have a professional designation\, such as APR\, please list after your last name on the form. For example: Victoria Lelash\, APR – First name\, “Victoria”\, Last name\, “Lelash\, APR.” Write to mindy@prsala.org if you have any questions.\n\n\n\n\n[/vc_column_text][/vc_tab][vc_tab title=”Robert Alaniz” tab_id=”1456940368-2-99″][vc_column_text]Robert Alaniz \nSenior Partner\, Milagro Strategy Group \nROBERT ALANIZ is currently a senior partner with Milagro Strategy Group\, an award winning California public affairs firm specializing in media relations and public outreach strategies. He has a reputation as a dynamic and seasoned senior public affairs/strategic communications executive with exceptional success in conceiving\, planning and executing strategic public/community affairs initiatives\, coalition building and issues campaigns that drive top-line performance and bottom-line results. A results driven practitioner with extensive background in public affairs\, governmental affairs\, community engagement\, crisis and issues management\, coalition development and media relations\, he has developed a comprehensive knowledge of leveraging public outreach strategies to build community & pubic policy support in order to achieve client goals and grow new business opportunities. \nHe is constantly sought after by corporate CEO’s\, elected officials and organizational leaders for his media strategy and message development expertise as well as his skills in preparing clients facing crisis scenarios. To date\, he has trained hundreds of corporate executives and elected officials on how to deal with tough reporters and crisis situations. He is also the former national media trainer for National Association of Latino Elected Officials (NALEO). \nAlaniz has also received numerous honors in his field\, including a CIPRA “Creativity in Public Relations Award” presented by Inside PR Magazine for best public affairs/issues management campaign; an IBAC ACE Awards 1st Place\, National Awards presented by the International Association of Business Communicators for outstanding public policy/coalition building campaigns; a PRSA/LA PRISM Award 1st Place presented by the Public Relations Society of America/Los Angeles Chapter for best issues management campaign; and a Hill and Knowlton at Its Best\, Media Campaign to keep the Houston Astros baseball team in Houston\, Texas. Mr. Alaniz was recently nominated and inducted into the National Association of Hispanic Journalists Hall of Fame. \n  \n[/vc_column_text][/vc_tab][vc_tab title=”Morgan Crinklaw” tab_id=”1456940539790-2-10″][vc_column_text]Morgan Crinklaw \nManager\, Issues Management Communications\, Chevron Corporation \nMorgan Crinklaw is the manager of Issues Management and Litigation Communications for Chevron Corporation. In that role\, he is responsible for shaping and protecting Chevron’s corporate reputation as related to major corporate issues\, unforeseen events\, litigation and sensitive environmental remediation projects. He is also responsible for a crisis communication and emergency response training program employed by Chevron’s business units around the globe. \nIn 2014\, Morgan was named one of the 40-Under-40 in PR by PR Week Magazine for leading a communications strategy related to a multi-billion dollar lawsuit against Chevron. The lawsuit was dubbed by the Wall Street Journal as the “legal fraud of the century.” \nPrior to joining Chevron in 2008\, Morgan spent more than 5 years in California state politics\, most recently as Communications Director for the Minority Leader in the California State Assembly. \n  \n[/vc_column_text][/vc_tab][vc_tab title=”Deborah Kazenelson Deane” tab_id=”1456940554775-3-2″][vc_column_text]Deborah Kazenelson Deane \nExecutive Vice President\, Edelman Los Angeles \nWhether they are facing a crisis\, engaged in developing a communications platform in a master narrative or messaging workshop\, or during a media training\, Deb is relentlessly focused on helping clients achieve their communications goals. Her diverse background includes working with both private and public sectors in industries ranging from healthcare and financial services to technology\, food and travel. She has developed and implemented strategic engagement campaigns for new product launches\, corporate positioning\, IPOs and workplace and product issues and crisis with the potential to affect brands\, business and reputations. When needed\, Deborah has also served as a bilingual spokesperson for many of her clients. \nSince joining Edelman\, Deborah has worked with a wide-array of corporate clients to provide counsel on crisis and issues management\, developing master narratives and positioning for their organizations\, executive visibility programs\, and thought leadership campaigns. She has worked closely with several biotechnology companies providing support during FDA and regulatory matters\, product recalls\, IPOs\, M&A’s\, IPOs and shareholder activism and corporate communications. She has also provided strategic counsel Experian\, Kaiser Permanente\, Shire Pharmaceuticals\, Shell\, Western Digital Corporation\, Payoff\, Inc.\, Mattel\, Chevron and Symantec\, among others. \nPrior to joining Edelman\, Deborah ran her own public relations consultancy that included work in healthcare\, Adtech\, financial communications\, labor relations and media relations. \nBefore going out on her own\, Deborah worked at PainePR where she was vice president and general manager of the Los Angeles office that she helped to launch. Her clients included Shuttle By United/United Airlines (crisis)\, Amgen\, Inc. (crisis\, community relations\, product) and PDT\, Inc. Prior to that she worked for Hill and Knowlton\, where she managed public relations\, financial communications and public affairs activities on behalf of the Tourism Authority of Thailand\, AeroCalifornia\, Procter & Gamble\, STARR Surgical\, the California Avocado Commission\, the California State Office of Traffic Safety\, Bumble Bee Seafoods and Houghton Mifflin (crisis and reputation). \nDeborah is a member of the UCLA Fielding School of Public Health Dean’s Advisory Council and serves on the Board of Directors of Fielding School’s Health Policy and Management Alumni Association and L.A. Family Housing\, a non-profit dedicated to erasing homelessness in Los Angeles. She holds a B.S. in Psychobiology and an M.S.P.H.\, both from UCLA. \n  \n[/vc_column_text][/vc_tab][vc_tab title=”Clint Schaff” tab_id=”1456940580583-4-10″][vc_column_text]Clint Schaff \nUS General Manager at Camp Playa \nClint Schaff is a senior marketing executive\, educator and entrepreneur with 16+ years of integrated marketing and agency management experience driving business results for complex businesses\, consumer brands and organizations. He aims to leverage communications\, collaboration and community to support social entrepreneurship and social change. \nIn 2015\, Clint launched Camp Playa\, the U.S. office of The Camps Collective\, a network of independent\, digitally oriented communications agencies best suited for clients with a challenge brand mindset\, on behalf of Vision7 International\, the Canadian-headquartered marketing communications company. \nPrior to pitching a tent at Camp Playa\, Clint had built and led digital agency teams for Roll Global\, M80\, GolinHarris and Edelman\, where his work for Call of Duty won a Grand Effie\, a Gold Effie and a Gold Sabre. Other brands he has led the digital efforts for include Nintendo\, Adidas\, Dole\, FIJI Water\, POM Wonderful\, Wonderful Pistachios\, and Toyota. \nClint also is a leader in the classrom\, have served an adjunct professor for 8+ years at USC’s Annenberg School\, and has spoken at PR News\, Social Media Week\, Digital LA\, TECHmunch\, and UCLA among others. He also actively volunteers with the LAGRANT Foundation and has served on boards for PRSA-LA\, Social Media Club-LA\, and the University of Minnesota Alumni Association. \nOn a lighter note… Clint appeared on a reality television dating show\, donned the Goldy Gopher mascot costume in college\, and sings karaoke as frequently as possible. \n  \n[/vc_column_text][/vc_tab][vc_tab title=”Dave Barthmuss” tab_id=”1456940592275-5-2″][vc_column_text]Dave Barthmuss \nFounder of Advotocracy \nDave Barthmuss is the recently retired Group Manager of Communications for General Motors\, who now serves as an independent consultant and senior counsel for clients and agencies. He brings more nearly 30 years of public relations experience including crisis management\, grassroots programming\, digital content development and product marketing. In his roles\, Dave has helped clients and corporations develop strategic communications programs that reach key stakeholders and deliver a company’s message in a variety of settings. Dave possesses a keen ability to build the kinds of engaging bridges that have turned the most determined of detractors into proactive third-party advocates –- a subtle art he calls “Advotocracy\,” the act of leading through advocacy. \nMost recently\, Dave was GM’s top communicator in its Western Region where he oversaw a diverse team of PR specialists. Dave focused on various communications functions in this role including product marketing\, issues management and public policy for all 24 states west of the Mississippi. Dave also served as a key spokesperson for the company conducting numerous interviews and participated in several public speaking events related to topics such as alternative fuels\, communication best practices and other business topics. Prior to this role\, Dave managed global energy\, environment\, and sustainability communications at GM’s headquarters in Detroit. \nEarlier in his career\, Dave provided strategic guidance and constituent relations needs for 20 state senators\, public policy analysts and state bureaucrats. Dave specialized in public affairs issues management\, public policy promotions\, legislative monitoring and general public relations services. Dave has also focused on engaging and building relationships with influencers\, detractors\, advocates and media\, often creating long-lasting and mutually beneficial relationships for his clients. \nHis work has earned several awards from PRSA including the 2013 PR Professional of the Year Award\, Sabre\, PR Week and the Publicity Club of Chicago\, as well as GM Chairman’s Honors for achievements in advanced technology communications\, and Star Awards from GM’s Public Policy Center for environmental education. He was also recently awarded the Volunteer of the Year award from the LA Chamber of Commerce for his continued contributions to the Southern California Leadership Network. \nDave earned a Bachelor’s Degree in Journalism and Political Science from Michigan State University. He is currently a board member for the Southern California Leadership Network. \nWhen not on the road or in the office\, you’ll find him spending time with his family\, enjoying concerts (he’s a reformed Deadhead) and cheering on his favorite sports teams. \nDave is active on social media networks and welcomes new friends and followers: \n\nDave on LinkedIn: https://www.linkedin.com/in/davebarthmuss\nDave on Twitter: @DaveBarthmuss\n\n  \n  \n[/vc_column_text][/vc_tab][/vc_tabs][/vc_column][/vc_row] \n\n\n\n\n\n\n \nPowered by Eventbrite
URL:https://prsala.org/event/converting-critics-skeptics-and-cynics-audience-engagement-strategies-for-2016/
LOCATION:Omni Hotel Downtown\, 251 South Olive Street\, Los Angeles\, CA\, 90012\, United States
END:VEVENT
END:VCALENDAR