BEGIN:VCALENDAR
VERSION:2.0
PRODID:-//PRSA-LA - ECPv6.15.20//NONSGML v1.0//EN
CALSCALE:GREGORIAN
METHOD:PUBLISH
X-ORIGINAL-URL:https://prsala.org
X-WR-CALDESC:Events for PRSA-LA
REFRESH-INTERVAL;VALUE=DURATION:PT1H
X-Robots-Tag:noindex
X-PUBLISHED-TTL:PT1H
BEGIN:VTIMEZONE
TZID:America/Los_Angeles
BEGIN:DAYLIGHT
TZOFFSETFROM:-0800
TZOFFSETTO:-0700
TZNAME:PDT
DTSTART:20150308T100000
END:DAYLIGHT
BEGIN:STANDARD
TZOFFSETFROM:-0700
TZOFFSETTO:-0800
TZNAME:PST
DTSTART:20151101T090000
END:STANDARD
BEGIN:DAYLIGHT
TZOFFSETFROM:-0800
TZOFFSETTO:-0700
TZNAME:PDT
DTSTART:20160313T100000
END:DAYLIGHT
BEGIN:STANDARD
TZOFFSETFROM:-0700
TZOFFSETTO:-0800
TZNAME:PST
DTSTART:20161106T090000
END:STANDARD
BEGIN:DAYLIGHT
TZOFFSETFROM:-0800
TZOFFSETTO:-0700
TZNAME:PDT
DTSTART:20170312T100000
END:DAYLIGHT
BEGIN:STANDARD
TZOFFSETFROM:-0700
TZOFFSETTO:-0800
TZNAME:PST
DTSTART:20171105T090000
END:STANDARD
END:VTIMEZONE
BEGIN:VTIMEZONE
TZID:America/Los_Angeles
BEGIN:DAYLIGHT
TZOFFSETFROM:-0800
TZOFFSETTO:-0700
TZNAME:PDT
DTSTART:20150308T100000
END:DAYLIGHT
BEGIN:STANDARD
TZOFFSETFROM:-0700
TZOFFSETTO:-0800
TZNAME:PST
DTSTART:20151101T090000
END:STANDARD
BEGIN:DAYLIGHT
TZOFFSETFROM:-0800
TZOFFSETTO:-0700
TZNAME:PDT
DTSTART:20160313T100000
END:DAYLIGHT
BEGIN:STANDARD
TZOFFSETFROM:-0700
TZOFFSETTO:-0800
TZNAME:PST
DTSTART:20161106T090000
END:STANDARD
BEGIN:DAYLIGHT
TZOFFSETFROM:-0800
TZOFFSETTO:-0700
TZNAME:PDT
DTSTART:20170312T100000
END:DAYLIGHT
BEGIN:STANDARD
TZOFFSETFROM:-0700
TZOFFSETTO:-0800
TZNAME:PST
DTSTART:20171105T090000
END:STANDARD
END:VTIMEZONE
BEGIN:VEVENT
DTSTART;TZID=America/Los_Angeles:20160409T090000
DTEND;TZID=America/Los_Angeles:20160409T120000
DTSTAMP:20260419T151351
CREATED:20181222T085440Z
LAST-MODIFIED:20190125T054843Z
UID:8312-1460192400-1460203200@prsala.org
SUMMARY:2016 PRSSA One-Day Conference
DESCRIPTION:Network. Learn. Be Inspired!\n \nPRSSA/PRSA Members: $25\nNon-PRSSA/PRSA Attendees: $35\n \nFee includes all sessions\, continental breakfast\, lunch\, and sweets.\n \nPROGRAM DETAILS\n \nKeynote Opening Session\nBuilding Your Personal Brand\n \nPresenter: Melissa Robinson\nSenior Vice President | Brand Marketing & Communications PMK•BNC \n \nMore program information will be available soon.\n \nLoyola Marymount University\n1 LMU Drive\nLos Angeles\, CA 90045\nParking: Free parking is located throughout campus. Detailed instructions will be sent to all registrants.\n \nQuestions?  Contact Holly Ferris at holly@ferriscomm.com\n\n1 LMU Drive\nLos Angeles\, CA 90045\nParking: Free parking is located under the building (University Hall.)  Entrance is off Lincoln Boulevard.\n \nQuestions?  Contact Holly Ferris at holly@ferriscomm.com\n \n 
URL:https://prsala.org/event/2016-prssa-one-day-conference/
LOCATION:Roski Dining Room – University Hall\, Loyola Marymount University Dr\, Los Angeles\, CA\, 90045\, United States
ORGANIZER;CN="PRSA-LA":MAILTO:executive.director@prsala.org
END:VEVENT
BEGIN:VEVENT
DTSTART;TZID=America/Los_Angeles:20160409T090000
DTEND;TZID=America/Los_Angeles:20160409T160000
DTSTAMP:20260419T151351
CREATED:20160223T210751Z
LAST-MODIFIED:20160405T154415Z
UID:4584-1460192400-1460217600@prsala.org
SUMMARY:PRSSA One-Day Conference - Network. Learn. Be Inspired!
DESCRIPTION:Loyola Marymount University \nSt. Robert’s Hall \n1 LMU Drive \nLos Angeles\, CA 90045 \n  \n  \nFee:  $25 ($35 for non-PRSSA/PRSA attendees) includes a light breakfast\, lunch and a series of informative speakers and activities. No cancellations or refunds after 5 p.m. PDT\, Tuesday\, April 5\, 2016. \n  \nParking: Parking is free on campus. Detailed parking instructions will be provided to all attendees. Register below; no refunds after Monday\, April 4. \n  \n  \n********************************************* \nKeynote Opening Session \n“U Brand 101” \nLessons in building the most important brand you’ll ever work for: YOU. \n  \n  \nMelissa Robinson \nPMK*BNC \nSenior Vice President | Brand Marketing & Communications \n  \nMorning Panel Discussion \n  \nHear from several PR pros who come from a variety of practice areas and specialties such as entertainment\, nonprofit\, healthcare\, food/nutrition\, travel/tourism\, and public affairs. \n  \nAfternoon Campaign Challenge \n  \nBringing a PR Concept to Life: Collaborating with Peers\, Learning and Sharing Best Practices \n  \nFacilitator: Scott Pansky \nCo-Founder + Senior Partner  \nAllison+Partners \n  \n******************************************** \n  \nMeet professionals from PMK*BNC\, Allison+Partners\, Porter Novelli\, Cunard Lines\, Hillsides\, Big Brothers Big Sisters of Greater Los Angeles\, The LAGRANT Foundation\, Runyon Saltzman Einhorn\, Citizen Relations\, LA Family Housing\, Boys & Girls Club of Laguna Beach\, Bob Gold & Associates\, Markwins International Corporation – Wet N Wild\, and LAGRANT Communications\, among others. \n  \nNote: Program and guest speakers subject to change. The life of PR pros can be unpredictable. \n  \nQuestions?  Contact Holly Ferris at holly@ferriscomm.com \n\n \nNo cancellations or refunds after 5 p.m. PDT\, Tuesday\, April 5\, 2016. \n  \n\nSponsored by:                                                                                                                                    Campaign Challenge Sponsor: \n                                                             \n\nPowered by Eventbrite
URL:https://prsala.org/event/prssa-one-day-conference-network-learn-be-inspired/
END:VEVENT
BEGIN:VEVENT
DTSTART;TZID=America/Los_Angeles:20160414T180000
DTEND;TZID=America/Los_Angeles:20160414T203000
DTSTAMP:20260419T151351
CREATED:20160107T201150Z
LAST-MODIFIED:20160329T173104Z
UID:4379-1460656800-1460665800@prsala.org
SUMMARY:The 26th Annual Kenneth Owler Smith Symposium Hosted by the USC Annenberg Center for Public Relations
DESCRIPTION:Back to the Future\nA Conversation About the Future of Public Relations \n  \nJoin us for a journey from the past to the future with Fred Cook\, CEO of Golin and newly-appointed Director of the USC Annenberg Center for Public Relations (CPR)\, featuring a conversation with Willow Bay\, Director\, USC Annenberg School of Journalism\, and Al Golin\, Chairman of Golin\, about how dramatically the business has changed since he started his agency 60 years ago. Paul Holmes of The Holmes Report also will reveal the results of the very first Global Communications Report\, an annual study of senior agency and in-house communications professionals around the world designed to help them stay on the forefront of emerging trends shaping the $14 billion global PR industry as they manage their organizations\, develop strategy\, and prepare for the future. \nPanelist include: \nFred Cook\, Director\, USC Annenberg Center for Public Relations. CEO\, Golin\nWillow Bay\, Director\, USC Annenberg School of Journalism\nPaul Holmes\, Founder & CEO\, The Holmes Group\nAl Golin\, Chairman\, Founder\, Golin\nErnest J. Wilson III\, Dean\, USC Annenberg School for Communication and Journalism\n6:00 pm – Reception / Wallis Annenberg Hall (ANN) Forum/Lobby \n7:00 pm – Program / Wallis Annenberg Hall (ANN) Auditorium L105A\nRSVP required. Click here to RSVP \n  \n 
URL:https://prsala.org/event/kenneth-owler-smith-symposium-3/
LOCATION:USC Annenberg School for Communication & Journalism
END:VEVENT
BEGIN:VEVENT
DTSTART;VALUE=DATE:20160421
DTEND;VALUE=DATE:20160424
DTSTAMP:20260419T151351
CREATED:20160105T173429Z
LAST-MODIFIED:20160105T173805Z
UID:4371-1461196800-1461455999@prsala.org
SUMMARY:Western District Conference
DESCRIPTION:Western District Conference\, Huntington Beach\, CA
URL:https://prsala.org/event/western-district-conference/
LOCATION:Hyatt Regency Resort & Spa\, 21500 Pacific Coast Highway\, Huntington Beach\, CA\, 92648\, United States
CATEGORIES:Other Events
END:VEVENT
BEGIN:VEVENT
DTSTART;TZID=America/Los_Angeles:20160428T120000
DTEND;TZID=America/Los_Angeles:20160428T133000
DTSTAMP:20260419T151351
CREATED:20160418T191724Z
LAST-MODIFIED:20160428T151747Z
UID:4776-1461844800-1461850200@prsala.org
SUMMARY:Independent Practitioners Alliance Luncheon
DESCRIPTION:THE COBBLER’S SHOES:\nINDEPENDENT PRACTITIONERS AND THE ART OF PERSONAL BRANDING\n \nWhen it comes to branding and promoting their own businesses\, solo public relations practitioners often are the proverbial cobblers who wear the worst shoes. Stretched between servicing their clients and managing the back office\, they have precious little time left to do for themselves what they do so well for their clients: market the business. \nBrandi Kamenar\, CEO of Brandi Kamenar Beverly Hills\, will share her secrets for creating a personal branding and strategic business development strategy – built on trust and authenticity – that will: \n\nEffectively communicate your value proposition\,\nDefine your niche in the marketplace\, and\nProvide the competitive advantage you need to grow your business.\n\nAbout Brandi Kamenar \nBrandi Kamenar founded Brandi Kamenar Beverly Hills in 2007. Her firm provides strategic business development\, brand and image management\, personal branding\, public relations\, marketing and advertising services to CEOs\, entrepreneurs\, professionals\, talent\, celebrities and high-profile personalities. She also was CEO of Icon B. Corporation\, a 25-person\, Tampa\, Fla.-based public relations and marketing firm specializing in celebrity/talent public relations\, fashion and luxury brands. Before relocating to Florida\, the Pittsburg\, Pa.\, native was marketing director of Image Depot Custom Logo Products\, a family owned business that grew from $300\,000 in annual revenues into a $2.3-million company within six years. Earlier in her career\, she was a professional fashion model\, representing such marquis brands as Calvin Klein and Terani Couture. Her honors and awards include being named a 2013 “Woman Making a Difference” by the Los Angeles Business Journal and the 2011 Business Woman of the Year by the Tampa Bay Business Journal. \n  \nDETAILS \nDate and Time: \nThursday\, April 28\, 2016\, 12-1:30 p.m. \nLocation: \nTaix French Restaurant \n1911 W. Sunset Boulevard \nLos Angeles\, CA 90026 \nCost: \n$35 – PRSA-LA members \n$50 – Non-members and guests \n$35 – Young Professionals \n$25 – PRSSA members\nMenu: Boneless breast of chicken or pasta Monegasque\, salad and choice of non-alcoholic beverage. A vegetarian option is available upon advance notice to mindy@prsala.org. \nParking: \nOn-site valet parking: $2.50 \nRSVP: \n  \n  \nRegistration for this event has closed; please check back for the next IPA Luncheon – coming in June!
URL:https://prsala.org/event/independent-practitioners-alliance-luncheon-5/
END:VEVENT
END:VCALENDAR