BEGIN:VCALENDAR
VERSION:2.0
PRODID:-//PRSA-LA - ECPv6.15.20//NONSGML v1.0//EN
CALSCALE:GREGORIAN
METHOD:PUBLISH
X-WR-CALNAME:PRSA-LA
X-ORIGINAL-URL:https://prsala.org
X-WR-CALDESC:Events for PRSA-LA
REFRESH-INTERVAL;VALUE=DURATION:PT1H
X-Robots-Tag:noindex
X-PUBLISHED-TTL:PT1H
BEGIN:VTIMEZONE
TZID:America/Los_Angeles
BEGIN:DAYLIGHT
TZOFFSETFROM:-0800
TZOFFSETTO:-0700
TZNAME:PDT
DTSTART:20150308T100000
END:DAYLIGHT
BEGIN:STANDARD
TZOFFSETFROM:-0700
TZOFFSETTO:-0800
TZNAME:PST
DTSTART:20151101T090000
END:STANDARD
BEGIN:DAYLIGHT
TZOFFSETFROM:-0800
TZOFFSETTO:-0700
TZNAME:PDT
DTSTART:20160313T100000
END:DAYLIGHT
BEGIN:STANDARD
TZOFFSETFROM:-0700
TZOFFSETTO:-0800
TZNAME:PST
DTSTART:20161106T090000
END:STANDARD
BEGIN:DAYLIGHT
TZOFFSETFROM:-0800
TZOFFSETTO:-0700
TZNAME:PDT
DTSTART:20170312T100000
END:DAYLIGHT
BEGIN:STANDARD
TZOFFSETFROM:-0700
TZOFFSETTO:-0800
TZNAME:PST
DTSTART:20171105T090000
END:STANDARD
END:VTIMEZONE
BEGIN:VTIMEZONE
TZID:America/Los_Angeles
BEGIN:DAYLIGHT
TZOFFSETFROM:-0800
TZOFFSETTO:-0700
TZNAME:PDT
DTSTART:20150308T100000
END:DAYLIGHT
BEGIN:STANDARD
TZOFFSETFROM:-0700
TZOFFSETTO:-0800
TZNAME:PST
DTSTART:20151101T090000
END:STANDARD
BEGIN:DAYLIGHT
TZOFFSETFROM:-0800
TZOFFSETTO:-0700
TZNAME:PDT
DTSTART:20160313T100000
END:DAYLIGHT
BEGIN:STANDARD
TZOFFSETFROM:-0700
TZOFFSETTO:-0800
TZNAME:PST
DTSTART:20161106T090000
END:STANDARD
BEGIN:DAYLIGHT
TZOFFSETFROM:-0800
TZOFFSETTO:-0700
TZNAME:PDT
DTSTART:20170312T100000
END:DAYLIGHT
BEGIN:STANDARD
TZOFFSETFROM:-0700
TZOFFSETTO:-0800
TZNAME:PST
DTSTART:20171105T090000
END:STANDARD
END:VTIMEZONE
BEGIN:VTIMEZONE
TZID:Asia/Shanghai
BEGIN:STANDARD
TZOFFSETFROM:+0800
TZOFFSETTO:+0800
TZNAME:CST
DTSTART:20150101T000000
END:STANDARD
END:VTIMEZONE
BEGIN:VEVENT
DTSTART;TZID=America/Los_Angeles:20160517T180000
DTEND;TZID=America/Los_Angeles:20160517T203000
DTSTAMP:20260419T133833
CREATED:20160430T200827Z
LAST-MODIFIED:20160517T175447Z
UID:4794-1463508000-1463517000@prsala.org
SUMMARY:The Evolution of PR in the Digital Landscape
DESCRIPTION:THIS EVENT IS SOLD OUT! \nTHANK YOU FOR YOUR INTEREST; UNFORTUNATELY WE ARE AT CAPACITY SO THERE WILL BE NO \nWALK-IN REGISTRATIONS AVAILABLE. \n  \nSocial Media and technology are changing the way public relations professionals and our clients do business. With social media and technology being ever-changing\, brands and organizations are using real people\, real time engagement to build relationships and brand affinity with consumers. \nOur panelists will share insights on creating social media content experiences for consumers\, best practices\, and leveraging the power of social media to elevate a brands and campaigns. We’ll discuss: \n\nIncorporating social media in your outreach efforts. Who’s getting it right?\nThe power of videos-Instagram\, Vine\, Periscope and Snapchat.\nThe social media do’s and don’ts; Creating engaging content your target audience will love.\nMeasuring tools of success\n\nThe social media panel discussion is brought to you by the Los Angeles chapters of  public relations professional organizations\, Hispanic Public Relations Association (HPRA-LA)\, Public Relations Society of America (PRSA-LA) and Black Public Relations Society (BPRS). \n  \nPANELISTS:      \nDeborah Braidic – Vice President\, Communications and Digital Strategy\, Children’s Hospital Los Angeles \nSerena Ehrlich – Director\, Social and Evolving Media\, Business Wire \nAbby Harris – Manager of Branded Integrations\, Maker Studios (a Disney Company) \nPaul Kadzielski – Digital Director\, Office of Mayor Eric Garcetti \nRachel Matos\, Director of Social Media\, Latina Bloggers Connect \n  \nLOCATION: \nPhelps \n12121 Bluff Creek Dr\, Los Angeles\, CA 90094 \n(Conveniently located near the intersection of the 405 and 90 freeways) \nNOTE ABOUT PARKING: There is plenty of parking in the building parking structure at 12121 Bluff Creek Drive for $8 an hour with a $20 maximum. There is street parking on Campus Drive near the YouTube Space LA building and also a parking lot at Central Park Playa Vista. Refer to this Google map for more information (https://www.google.com/maps/@33.9792119\,-118.4036907\,16.5z) \n  \nTIME: \n6 p.m. – 7 p.m. Check in and networking \n7 p.m. – 8:30 p.m. Panel Presentation \n  \nCOST:                                   \n  \nSOLD OUT! \n 
URL:https://prsala.org/event/the-evolution-of-pr-in-the-digital-landscape/
LOCATION:Phelps\, 12121 Bluff Creek Dr #200\, Playa Vista\, CA\, 90094\, United States
END:VEVENT
BEGIN:VEVENT
DTSTART;TZID=America/Los_Angeles:20160517T180000
DTEND;TZID=America/Los_Angeles:20160517T203000
DTSTAMP:20260419T133833
CREATED:20181222T085410Z
LAST-MODIFIED:20190125T054844Z
UID:8280-1463508000-1463517000@prsala.org
SUMMARY:The Evolution of PR in the Digital Landscape
DESCRIPTION:DESCRIPTION:              \nSocial Media and technology are changing the way public relations professionals and our clients do business. With social media and technology being ever-changing\, brands and organizations are using real people\, real time engagement to build relationships and brand affinity with consumers. \nOur panelists will share insights on creating social media content experiences for consumers\, best practices\, and leveraging the power of social media to elevate a brands and campaigns. We’ll discuss:\n\nIncorporating social media in your outreach efforts. Who’s getting it right?\nThe power of videos-Instagram\, Vine\, Periscope and Snapchat.\nThe social media do’s and don’ts; Creating engaging content your target audience will love.\nMeasuring tools of success\n\n \nThe social media panel discussion is brought to you by the Los Angeles chapters of  public relations professional organizations\, Hispanic Public Relations Association (HPRA-LA)\, Public Relations Society of America (PRSA-LA) and Black Public Relations Society (BPRS).       \nPANELISTS:     Paul Kadzielski – Digital Director\, Office of Mayor Eric Garcetti \nDeborah Braidic – Vice President\, Communications and Digital Strategy\, Children’s Hospital Los Angeles \nSerena Ehrlich – Director\, Social and Evolving Media\, Business Wire (Tentative) \nRachel Matos\, Director of Social Media\, Latina Bloggers Connect\nAbby Harris – Manager of Branded Integrations\, Maker Studios (a Disney Company)\n\nNOTE ABOUT PARKING: There is plenty of parking in the building parking structure at 12121 Bluff Creek Drive for $8 an hour with a $20 maximum. There is street parking on Campus Drive near the YouTube Space LA building and also a parking lot at Central Park Playa Vista. Refer to this Google map for more information (https://www.google.com/maps/@33.9792119\,-118.4036907\,16.5z)\n                                                
URL:https://prsala.org/event/the-evolution-of-pr-in-the-digital-landscape-2/
LOCATION:Phelps\, 12121 Bluff Creek Dr #200\, Playa Vista\, CA\, 90094\, United States
ORGANIZER;CN="PRSA-LA":MAILTO:executive.director@prsala.org
END:VEVENT
BEGIN:VEVENT
DTSTART;TZID=Asia/Shanghai:20160531T190000
DTEND;TZID=Asia/Shanghai:20160531T220000
DTSTAMP:20260419T133833
CREATED:20181222T085411Z
LAST-MODIFIED:20190125T054844Z
UID:8282-1464721200-1464732000@prsala.org
SUMMARY:BW Test
DESCRIPTION:Brian Wold’s Test Event. To test advanced settings like table sales\, table plus ad\, etc. NOTE that each ticket/ad type asks for different information: just names for the general\, guest #s1-5 for the table\, and a note about submitting ad copy for the ad option.\nBecause each is a separate item\, they can stack\, such as table plus an ad.\nAfter checkout\, the user can log in or create an Eventbrite account and edit the names on their ticket if they want to switch guest names\, for example. It’s not immediately clear how to do this\, so I’d suggest adding that info to a confirmation message or followup message.\nDo not publish or share this event.
URL:https://prsala.org/event/bw-test/
END:VEVENT
END:VCALENDAR