BEGIN:VCALENDAR
VERSION:2.0
PRODID:-//PRSA-LA - ECPv6.15.20//NONSGML v1.0//EN
CALSCALE:GREGORIAN
METHOD:PUBLISH
X-ORIGINAL-URL:https://prsala.org
X-WR-CALDESC:Events for PRSA-LA
REFRESH-INTERVAL;VALUE=DURATION:PT1H
X-Robots-Tag:noindex
X-PUBLISHED-TTL:PT1H
BEGIN:VTIMEZONE
TZID:America/Los_Angeles
BEGIN:DAYLIGHT
TZOFFSETFROM:-0800
TZOFFSETTO:-0700
TZNAME:PDT
DTSTART:20150308T100000
END:DAYLIGHT
BEGIN:STANDARD
TZOFFSETFROM:-0700
TZOFFSETTO:-0800
TZNAME:PST
DTSTART:20151101T090000
END:STANDARD
BEGIN:DAYLIGHT
TZOFFSETFROM:-0800
TZOFFSETTO:-0700
TZNAME:PDT
DTSTART:20160313T100000
END:DAYLIGHT
BEGIN:STANDARD
TZOFFSETFROM:-0700
TZOFFSETTO:-0800
TZNAME:PST
DTSTART:20161106T090000
END:STANDARD
BEGIN:DAYLIGHT
TZOFFSETFROM:-0800
TZOFFSETTO:-0700
TZNAME:PDT
DTSTART:20170312T100000
END:DAYLIGHT
BEGIN:STANDARD
TZOFFSETFROM:-0700
TZOFFSETTO:-0800
TZNAME:PST
DTSTART:20171105T090000
END:STANDARD
END:VTIMEZONE
BEGIN:VTIMEZONE
TZID:America/Los_Angeles
BEGIN:DAYLIGHT
TZOFFSETFROM:-0800
TZOFFSETTO:-0700
TZNAME:PDT
DTSTART:20150308T100000
END:DAYLIGHT
BEGIN:STANDARD
TZOFFSETFROM:-0700
TZOFFSETTO:-0800
TZNAME:PST
DTSTART:20151101T090000
END:STANDARD
BEGIN:DAYLIGHT
TZOFFSETFROM:-0800
TZOFFSETTO:-0700
TZNAME:PDT
DTSTART:20160313T100000
END:DAYLIGHT
BEGIN:STANDARD
TZOFFSETFROM:-0700
TZOFFSETTO:-0800
TZNAME:PST
DTSTART:20161106T090000
END:STANDARD
BEGIN:DAYLIGHT
TZOFFSETFROM:-0800
TZOFFSETTO:-0700
TZNAME:PDT
DTSTART:20170312T100000
END:DAYLIGHT
BEGIN:STANDARD
TZOFFSETFROM:-0700
TZOFFSETTO:-0800
TZNAME:PST
DTSTART:20171105T090000
END:STANDARD
END:VTIMEZONE
BEGIN:VEVENT
DTSTART;TZID=America/Los_Angeles:20160913T180000
DTEND;TZID=America/Los_Angeles:20160913T203000
DTSTAMP:20260419T072829
CREATED:20160722T224652Z
LAST-MODIFIED:20160829T193253Z
UID:5075-1473789600-1473798600@prsala.org
SUMMARY:Cultural Cave-Diving:  Bringing a Global Mindset to Communications
DESCRIPTION:With today’s diverse\, increasingly interconnected cultures\, PR practitioners have to understand the audience more than ever – whether you’re speaking to millennials or people in or from other nations and cultures.  This session will bring together professionals\, including journalists\, content creators and practitioners who will address how they have parlayed their sense of adventure or unique backgrounds and perspectives into a competitive advantage\, and how the “road less traveled” is often more authentic\, rich and culturally immersive. \n  \nPanelists: \n\nJamie Foley\, VP for Global Communications\, LA Tourism and Convention Board\nCharlie Gu\, Director\, China Luxury Advisors\nEva Hsuean\, Manager\, International Public Relations\, Princess Cruises\nLucy Redoglia\, Social Media Manager\, LACMA\nMargaret Traub\, Head of Global Initiatives at International Medical Corps.\n\nModerator:  Angela Alvarez\, Managing Director\, Citizen Relations \nLocation: \nThe Vantage Room at Hollywood & Highland \n6801 Hollywood Blvd \nHollywood\, CA 90028 \nThe Vantage Room is located on the 5th Floor of the Hollywood & Highland Complex; park in the Hollywood & Highland parking structure (located off of Highland; click here for more information.)  Take the elevators to the 5th floor.  The Vantage Room is next to the Wolfgang Puck Catering office. Sorry\, no parking validations for this program. \n  \n\n\n\nCost:  \n\n\n\n\n\n$45 – PRSA-LA Members\n$65 – Non Members and Guests\n$25 – Young Professionals and PRSSA\n\n\n\n\nRSVP:\n\n\nAdvance reservation required for guaranteed attendance; no cancellations or refunds after Friday\, September 9. Register below! \n\n\n\n\n\nNote\, please type your name as you would like it to appear on the name badge. If you use all lower case letters for your first and last name\, your name badge will have all lower case letters. If you have a professional designation\, such as APR\, please list after your last name on the form. For example: Victoria Lelash\, APR – First name\, “Victoria”\, Last name\, “Lelash\, APR.” Write to mindy@prsala.org if you have any questions. \n\n  \n\n \nPowered by Eventbrite
URL:https://prsala.org/event/cultural-cave-diving-bringing-a-global-mindset-to-communications/
LOCATION:The Vantage Room at Hollywood & Highland\, 6801 Hollywood Blvd.\, Hollywood\, CA\, 90028\, United States
END:VEVENT
BEGIN:VEVENT
DTSTART;TZID=America/Los_Angeles:20160913T180000
DTEND;TZID=America/Los_Angeles:20160913T203000
DTSTAMP:20260419T072829
CREATED:20181222T085414Z
LAST-MODIFIED:20190125T054846Z
UID:8287-1473789600-1473798600@prsala.org
SUMMARY:Cultural Cave-Diving: Bringing a Global Mindset to Communications
DESCRIPTION:With today’s diverse\, increasingly interconnected cultures\, PR practitioners have to understand the audience more than ever – whether you’re speaking to millennials or people in or from other nations and cultures.  This session will bring together professionals\, including journalists\, content creators and practitioners who will address how they have parlayed their sense of adventure or unique backgrounds and perspectives into a competitive advantage\, and how the “road less traveled” is often more authentic\, rich and culturally immersive.\nPanelists:\nMargaret Traub\, head of global initiatives at International Medical Corps.\nJamie Foley\, VP for Global Communications\, LA Tourism and Convention Board\nLucy Redoglia\, social media manager for LACMA\nCharlie Gu – China Luxury Advisors\nEva Hsuean\, Princess Cruises\n\nModerator: Angela Alvarez\, Citizen Relations\n\nThe Vantage Room at Hollywood & Highland\n6801 Hollywood Blvd\nHollywood\, CA 90028\nThe Vantage Room is located on the 5th Floor of the Hollywood & Highland Complex; park in the Hollywood & Highland parking structure (located off of Highland).  Take the elevators to the 5th floor.  The Vantage Room is next to the Wolfgang Puck Catering office. Sorry\, no parking validations for this program.\n\nCost:  \n\n\n$45 – PRSA-LA Members\n$65 – Non Members and Guests\n$25 – Young Professionals and PRSSA\n\n \n\n\nRSVP:\n\nAdvance reservation required for guaranteed attendance; no cancellations or refunds after Friday\, September 9. Register below!\n\n\n \nNote\, please type your name as you would like it to appear on the name badge. If you use all lower case letters for your first and last name\, your name badge will have all lower case letters. If you have a professional designation\, such as APR\, please list after your last name on the form. For example: Victoria Lelash\, APR – First name\, “Victoria”\, Last name\, “Lelash\, APR.” Write to mindy@prsala.org if you have any questions.
URL:https://prsala.org/event/cultural-cave-diving-bringing-a-global-mindset-to-communications-2/
LOCATION:The Vantage Room\, 6801 Hollywood Blvd.\, Hollywood\, CA\, 90028\, United States
ORGANIZER;CN="PRSA-LA":MAILTO:executive.director@prsala.org
END:VEVENT
END:VCALENDAR