BEGIN:VCALENDAR
VERSION:2.0
PRODID:-//PRSA-LA - ECPv6.15.20//NONSGML v1.0//EN
CALSCALE:GREGORIAN
METHOD:PUBLISH
X-ORIGINAL-URL:https://prsala.org
X-WR-CALDESC:Events for PRSA-LA
REFRESH-INTERVAL;VALUE=DURATION:PT1H
X-Robots-Tag:noindex
X-PUBLISHED-TTL:PT1H
BEGIN:VTIMEZONE
TZID:America/Los_Angeles
BEGIN:DAYLIGHT
TZOFFSETFROM:-0800
TZOFFSETTO:-0700
TZNAME:PDT
DTSTART:20150308T100000
END:DAYLIGHT
BEGIN:STANDARD
TZOFFSETFROM:-0700
TZOFFSETTO:-0800
TZNAME:PST
DTSTART:20151101T090000
END:STANDARD
BEGIN:DAYLIGHT
TZOFFSETFROM:-0800
TZOFFSETTO:-0700
TZNAME:PDT
DTSTART:20160313T100000
END:DAYLIGHT
BEGIN:STANDARD
TZOFFSETFROM:-0700
TZOFFSETTO:-0800
TZNAME:PST
DTSTART:20161106T090000
END:STANDARD
BEGIN:DAYLIGHT
TZOFFSETFROM:-0800
TZOFFSETTO:-0700
TZNAME:PDT
DTSTART:20170312T100000
END:DAYLIGHT
BEGIN:STANDARD
TZOFFSETFROM:-0700
TZOFFSETTO:-0800
TZNAME:PST
DTSTART:20171105T090000
END:STANDARD
END:VTIMEZONE
BEGIN:VTIMEZONE
TZID:America/Los_Angeles
BEGIN:DAYLIGHT
TZOFFSETFROM:-0800
TZOFFSETTO:-0700
TZNAME:PDT
DTSTART:20150308T100000
END:DAYLIGHT
BEGIN:STANDARD
TZOFFSETFROM:-0700
TZOFFSETTO:-0800
TZNAME:PST
DTSTART:20151101T090000
END:STANDARD
BEGIN:DAYLIGHT
TZOFFSETFROM:-0800
TZOFFSETTO:-0700
TZNAME:PDT
DTSTART:20160313T100000
END:DAYLIGHT
BEGIN:STANDARD
TZOFFSETFROM:-0700
TZOFFSETTO:-0800
TZNAME:PST
DTSTART:20161106T090000
END:STANDARD
BEGIN:DAYLIGHT
TZOFFSETFROM:-0800
TZOFFSETTO:-0700
TZNAME:PDT
DTSTART:20170312T100000
END:DAYLIGHT
BEGIN:STANDARD
TZOFFSETFROM:-0700
TZOFFSETTO:-0800
TZNAME:PST
DTSTART:20171105T090000
END:STANDARD
END:VTIMEZONE
BEGIN:VEVENT
DTSTART;TZID=America/Los_Angeles:20161006T073000
DTEND;TZID=America/Los_Angeles:20161006T090000
DTSTAMP:20260419T054420
CREATED:20160817T013247Z
LAST-MODIFIED:20161005T230748Z
UID:5183-1475739000-1475744400@prsala.org
SUMMARY:At Breakfast With...Food Media - SOLD OUT!! No walk-in registrations
DESCRIPTION:Advance registration required. Register below! \n \nSOLD OUT! We reached capacity for the space\, so unfortunately we cannot accept walk-in registrations for this event. \n\n  \nPowered by Eventbrite
URL:https://prsala.org/event/at-breakfast-with-food-media/
LOCATION:Ledlow Restaurant\, 400 S. Main Street\, Los Angeles\, CA\, 90013\, United States
END:VEVENT
BEGIN:VEVENT
DTSTART;TZID=America/Los_Angeles:20161006T073000
DTEND;TZID=America/Los_Angeles:20161006T090000
DTSTAMP:20260419T054420
CREATED:20181222T085421Z
LAST-MODIFIED:20190125T054847Z
UID:8289-1475739000-1475744400@prsala.org
SUMMARY:At Breakfast With...Food & Restaurant Media
DESCRIPTION:
URL:https://prsala.org/event/at-breakfast-with-food-restaurant-media/
LOCATION:Ledlow\, 400 South Main Street\, Los Angeles\, CA\, 90013\, United States
ORGANIZER;CN="PRSA-LA":MAILTO:executive.director@prsala.org
END:VEVENT
BEGIN:VEVENT
DTSTART;TZID=America/Los_Angeles:20161020T123000
DTEND;TZID=America/Los_Angeles:20161020T140000
DTSTAMP:20260419T054420
CREATED:20161006T192515Z
LAST-MODIFIED:20161006T201747Z
UID:5356-1476966600-1476972000@prsala.org
SUMMARY:Independent Practitioners Alliance Luncheon - Tax and Financial Planning
DESCRIPTION:‘TIS THE SEASON! YEAR-END TAX AND FINANCIAL PLANNING FOR \nSOLO PRACTITIONERS\nEstablishing your own consultancy affords a variety of benefits. It also presents a host of financial and tax challenges. And the best time to begin addressing those issues is now. \nGeorge Lin\, CPA\, whose clients include entrepreneurs\, business owners and high-net-worth individuals\, will share some of the most effective tax planning strategies he has executed for his clients. They include: \n\nAvoiding the biggest tax-planning mistakes business owners make\nEstablishing the legal business structures that offer the biggest tax benefits\nWays to keep your hard-earned cash working for your business\nHow to handle taxes for virtual firm partners and subcontractors\nThe best ways sole proprietors can save for their retirement\n\nAbout George Lin \nDuring the past 30 years\, George Lin\, CPA\, principal of the George Lin Organization\, has guided his firm from its beginnings as a sole proprietorship into a full-service corporation offering business and personal taxation services\, including acquisition due diligence\, audit representation\, business management and tax planning. He previously held internal tax accountant and tax manager positions at American Honda\, Bekins Moving and Storage and Bekins Van Lines. Lin earned an M.B. A. degree\, with an emphasis in management\, from Youngstown State University in Youngstown\, Ohio\, and a master’s degree in taxation from Golden Gate University in San Francisco. \nDETAILS \nDate and Time:\nThursday\, Oct. 20\, 2016\, 12:30-2 p.m. \nLocation:\nTaix French Restaurant\n1911 W. Sunset Boulevard\nLos Angeles\, CA 90026 \nCost:\n$35 – PRSA-LA members\n$50 – Non-members and guests\n$30 – Young Professionals\n$25 – PRSSA members \nMenu:\nChicken (grilled with lemon\, butter\, wine\, shallot sauce) or pasta Montegasque (vegetarian)\, salad and choice of non-alcoholic beverage. A vegan or gluten-free option is available upon advance notice to mindy@prsala.org. Note: Menu selection must be made when registering; if you have a special request\, please choose\, “other” then write to Mindy with request. We do our best to accommodate any reasonable request! \nParking:\nOn-site valet parking: $2.50 \nRSVP:\nSeating is limited; register below! Advance reservations required for guaranteed attendance. Click below to make your registration. Cash or check payment also accepted at the door; no credit cards. \n\n \n\n\n\nTicket Prices\n\n\nMember $35.00 USDNon member/guest $50.00 USDYP Member $30.00 USDPRSSA Student Member $25.00 USD\n\n\nEntree Selection\n\n\nBoneless breast of chicken(grilled w/lemon\, butter\, white wine)Penne pasta(tomatoes\, garlic\, fresh basil)Other – please specify by email
URL:https://prsala.org/event/independent-practitioners-alliance-luncheon-tax-and-financial-planning/
LOCATION:Taix French Restaurant\, 1911 Sunset Boulevard\, Los Angeles\, CA\, 90026\, United States
END:VEVENT
BEGIN:VEVENT
DTSTART;TZID=America/Los_Angeles:20161020T123000
DTEND;TZID=America/Los_Angeles:20161020T140000
DTSTAMP:20260419T054420
CREATED:20170405T152512Z
LAST-MODIFIED:20170405T152512Z
UID:5981-1476966600-1476972000@prsala.org
SUMMARY:Independent Practitioners Alliance Luncheon - Tax and Financial Planning  Copy
DESCRIPTION:‘TIS THE SEASON! YEAR-END TAX AND FINANCIAL PLANNING FOR \nSOLO PRACTITIONERS\nEstablishing your own consultancy affords a variety of benefits. It also presents a host of financial and tax challenges. And the best time to begin addressing those issues is now. \nGeorge Lin\, CPA\, whose clients include entrepreneurs\, business owners and high-net-worth individuals\, will share some of the most effective tax planning strategies he has executed for his clients. They include: \n\nAvoiding the biggest tax-planning mistakes business owners make\nEstablishing the legal business structures that offer the biggest tax benefits\nWays to keep your hard-earned cash working for your business\nHow to handle taxes for virtual firm partners and subcontractors\nThe best ways sole proprietors can save for their retirement\n\nAbout George Lin \nDuring the past 30 years\, George Lin\, CPA\, principal of the George Lin Organization\, has guided his firm from its beginnings as a sole proprietorship into a full-service corporation offering business and personal taxation services\, including acquisition due diligence\, audit representation\, business management and tax planning. He previously held internal tax accountant and tax manager positions at American Honda\, Bekins Moving and Storage and Bekins Van Lines. Lin earned an M.B. A. degree\, with an emphasis in management\, from Youngstown State University in Youngstown\, Ohio\, and a master’s degree in taxation from Golden Gate University in San Francisco. \nDETAILS \nDate and Time:\nThursday\, Oct. 20\, 2016\, 12:30-2 p.m. \nLocation:\nTaix French Restaurant\n1911 W. Sunset Boulevard\nLos Angeles\, CA 90026 \nCost:\n$35 – PRSA-LA members\n$50 – Non-members and guests\n$30 – Young Professionals\n$25 – PRSSA members \nMenu:\nChicken (grilled with lemon\, butter\, wine\, shallot sauce) or pasta Montegasque (vegetarian)\, salad and choice of non-alcoholic beverage. A vegan or gluten-free option is available upon advance notice to mindy@prsala.org. Note: Menu selection must be made when registering; if you have a special request\, please choose\, “other” then write to Mindy with request. We do our best to accommodate any reasonable request! \nParking:\nOn-site valet parking: $2.50 \nRSVP:\nSeating is limited; register below! Advance reservations required for guaranteed attendance. Click below to make your registration. Cash or check payment also accepted at the door; no credit cards. \n\n \n\n\n\nTicket Prices\n\n\nMember $35.00 USDNon member/guest $50.00 USDYP Member $30.00 USDPRSSA Student Member $25.00 USD\n\n\nEntree Selection\n\n\nBoneless breast of chicken(grilled w/lemon\, butter\, white wine)Penne pasta(tomatoes\, garlic\, fresh basil)Other – please specify by email
URL:https://prsala.org/event/independent-practitioners-alliance-luncheon-tax-and-financial-planning-copy/
LOCATION:Taix French Restaurant\, 1911 Sunset Boulevard\, Los Angeles\, CA\, 90026\, United States
END:VEVENT
BEGIN:VEVENT
DTSTART;TZID=America/Los_Angeles:20161020T123000
DTEND;TZID=America/Los_Angeles:20161020T140000
DTSTAMP:20260419T054420
CREATED:20170405T152534Z
LAST-MODIFIED:20170405T152534Z
UID:5983-1476966600-1476972000@prsala.org
SUMMARY:Independent Practitioners Alliance Luncheon - Tax and Financial Planning  Copy
DESCRIPTION:‘TIS THE SEASON! YEAR-END TAX AND FINANCIAL PLANNING FOR \nSOLO PRACTITIONERS\nEstablishing your own consultancy affords a variety of benefits. It also presents a host of financial and tax challenges. And the best time to begin addressing those issues is now. \nGeorge Lin\, CPA\, whose clients include entrepreneurs\, business owners and high-net-worth individuals\, will share some of the most effective tax planning strategies he has executed for his clients. They include: \n\nAvoiding the biggest tax-planning mistakes business owners make\nEstablishing the legal business structures that offer the biggest tax benefits\nWays to keep your hard-earned cash working for your business\nHow to handle taxes for virtual firm partners and subcontractors\nThe best ways sole proprietors can save for their retirement\n\nAbout George Lin \nDuring the past 30 years\, George Lin\, CPA\, principal of the George Lin Organization\, has guided his firm from its beginnings as a sole proprietorship into a full-service corporation offering business and personal taxation services\, including acquisition due diligence\, audit representation\, business management and tax planning. He previously held internal tax accountant and tax manager positions at American Honda\, Bekins Moving and Storage and Bekins Van Lines. Lin earned an M.B. A. degree\, with an emphasis in management\, from Youngstown State University in Youngstown\, Ohio\, and a master’s degree in taxation from Golden Gate University in San Francisco. \nDETAILS \nDate and Time:\nThursday\, Oct. 20\, 2016\, 12:30-2 p.m. \nLocation:\nTaix French Restaurant\n1911 W. Sunset Boulevard\nLos Angeles\, CA 90026 \nCost:\n$35 – PRSA-LA members\n$50 – Non-members and guests\n$30 – Young Professionals\n$25 – PRSSA members \nMenu:\nChicken (grilled with lemon\, butter\, wine\, shallot sauce) or pasta Montegasque (vegetarian)\, salad and choice of non-alcoholic beverage. A vegan or gluten-free option is available upon advance notice to mindy@prsala.org. Note: Menu selection must be made when registering; if you have a special request\, please choose\, “other” then write to Mindy with request. We do our best to accommodate any reasonable request! \nParking:\nOn-site valet parking: $2.50 \nRSVP:\nSeating is limited; register below! Advance reservations required for guaranteed attendance. Click below to make your registration. Cash or check payment also accepted at the door; no credit cards. \n\n \n\n\n\nTicket Prices\n\n\nMember $35.00 USDNon member/guest $50.00 USDYP Member $30.00 USDPRSSA Student Member $25.00 USD\n\n\nEntree Selection\n\n\nBoneless breast of chicken(grilled w/lemon\, butter\, white wine)Penne pasta(tomatoes\, garlic\, fresh basil)Other – please specify by email
URL:https://prsala.org/event/independent-practitioners-alliance-luncheon-tax-and-financial-planning-copy-3/
LOCATION:Taix French Restaurant\, 1911 Sunset Boulevard\, Los Angeles\, CA\, 90026\, United States
END:VEVENT
BEGIN:VEVENT
DTSTART;TZID=America/Los_Angeles:20161026T183000
DTEND;TZID=America/Los_Angeles:20161026T210000
DTSTAMP:20260419T054420
CREATED:20161007T172144Z
LAST-MODIFIED:20161024T185635Z
UID:5376-1477506600-1477515600@prsala.org
SUMMARY:#BLURREDLINES - Who owns Client Messaging?
DESCRIPTION:  \n\nPR vs. Marketing. Who owns client messaging in the social media age? PRSA-LA and AMA are co-hosting this panel discussion where all-star marketers square off against elite PR pros on this and other topics\, including: \n\n\nWhich side has the upper hand in today’s media landscape?\nHow do the lines of messaging blur when it comes to an effective campaign?\nWhen should the two camps come together for the client and avoid stepping over each other?\n\nConfirmed Panelists:\n\n►Judy Johnson:  Chief Marketing and Communications Officer – Caruso Affiliated\n►Diane Bergman:  VP\, Marketing & Communications – LA Opera\n►Clint Schaff:  VP\, Strategy & Development – The Los Angeles Times\n►Erica Samadani:  SVP\, Brand Marketing – Ogilvy Public Relations  \n\n\nMODERATOR:\n\n► Philip Rebentisch: President – AMA Los Angeles \n  \n\nDate and Time:\nWednesday\, October 26\, 2016\n6:30 – 9:30 p.m.\n\n\n\n\nThe treats – Mendocino Farms will be providing tasty appetizers. Erdinger will be pouring ice cold German beer\, and Just Chill will be providing delicious beverages that reduce stress and improve focus.\n\n\n\n\nLocation:\n\n\nGeneral Assembly\n1520 2nd Street\nSanta Monica\, CA 90401\n\nClick here for directions.\nCost:  \n\n\n\n\n\nGeneral Admission – $30 (+1.59 fee); on sale Oct. 23-Oct. 26\nDay of Event – $40 (+1.79 fee)\n\nRSVP:\n\n\n\n\nClick here to register online. Note\, there are no volunteer or sponsor tickets available for this event. \nSpecial thanks to: \n     \n\n\n\n \n\n 
URL:https://prsala.org/event/blurred-lines-pr-vs-marketing/
LOCATION:General Assembly\, 1520 2nd St\, Santa Monica\, CA\, 90401\, United States
END:VEVENT
END:VCALENDAR